BEGIN:VCALENDAR
VERSION:2.0
PRODID:-//Edinboro Camp and Retreat Center :: Youth Camp - Family Camp - Retreats - ECPv6.15.18//NONSGML v1.0//EN
CALSCALE:GREGORIAN
METHOD:PUBLISH
X-ORIGINAL-URL:https://edinborocamp.org
X-WR-CALDESC:Events for Edinboro Camp and Retreat Center :: Youth Camp - Family Camp - Retreats
REFRESH-INTERVAL;VALUE=DURATION:PT1H
X-Robots-Tag:noindex
X-PUBLISHED-TTL:PT1H
BEGIN:VTIMEZONE
TZID:America/New_York
BEGIN:DAYLIGHT
TZOFFSETFROM:-0500
TZOFFSETTO:-0400
TZNAME:EDT
DTSTART:20220313T070000
END:DAYLIGHT
BEGIN:STANDARD
TZOFFSETFROM:-0400
TZOFFSETTO:-0500
TZNAME:EST
DTSTART:20221106T060000
END:STANDARD
BEGIN:DAYLIGHT
TZOFFSETFROM:-0500
TZOFFSETTO:-0400
TZNAME:EDT
DTSTART:20230312T070000
END:DAYLIGHT
BEGIN:STANDARD
TZOFFSETFROM:-0400
TZOFFSETTO:-0500
TZNAME:EST
DTSTART:20231105T060000
END:STANDARD
BEGIN:DAYLIGHT
TZOFFSETFROM:-0500
TZOFFSETTO:-0400
TZNAME:EDT
DTSTART:20240310T070000
END:DAYLIGHT
BEGIN:STANDARD
TZOFFSETFROM:-0400
TZOFFSETTO:-0500
TZNAME:EST
DTSTART:20241103T060000
END:STANDARD
END:VTIMEZONE
BEGIN:VEVENT
DTSTART;TZID=America/New_York:20230304T120000
DTEND;TZID=America/New_York:20230304T140000
DTSTAMP:20260425T155638
CREATED:20230203T230239Z
LAST-MODIFIED:20230203T230311Z
UID:6777-1677931200-1677938400@edinborocamp.org
SUMMARY:Soup & Chili Cook-Off
DESCRIPTION:[gravityform id=”3″ title=”true” description=”true”]
URL:https://edinborocamp.org/event/soup-chili-cook-off/
LOCATION:Edinboro Camp & Retreat Center\, 12940 Fry Rd\, Edinboro\, PA\, 16412\, United States
END:VEVENT
END:VCALENDAR