BEGIN:VCALENDAR
VERSION:2.0
PRODID:-//Edinboro Camp and Retreat Center :: Youth Camp - Family Camp - Retreats - ECPv6.15.18//NONSGML v1.0//EN
CALSCALE:GREGORIAN
METHOD:PUBLISH
X-WR-CALNAME:Edinboro Camp and Retreat Center :: Youth Camp - Family Camp - Retreats
X-ORIGINAL-URL:https://edinborocamp.org
X-WR-CALDESC:Events for Edinboro Camp and Retreat Center :: Youth Camp - Family Camp - Retreats
REFRESH-INTERVAL;VALUE=DURATION:PT1H
X-Robots-Tag:noindex
X-PUBLISHED-TTL:PT1H
BEGIN:VTIMEZONE
TZID:America/New_York
BEGIN:DAYLIGHT
TZOFFSETFROM:-0500
TZOFFSETTO:-0400
TZNAME:EDT
DTSTART:20190310T070000
END:DAYLIGHT
BEGIN:STANDARD
TZOFFSETFROM:-0400
TZOFFSETTO:-0500
TZNAME:EST
DTSTART:20191103T060000
END:STANDARD
BEGIN:DAYLIGHT
TZOFFSETFROM:-0500
TZOFFSETTO:-0400
TZNAME:EDT
DTSTART:20200308T070000
END:DAYLIGHT
BEGIN:STANDARD
TZOFFSETFROM:-0400
TZOFFSETTO:-0500
TZNAME:EST
DTSTART:20201101T060000
END:STANDARD
BEGIN:DAYLIGHT
TZOFFSETFROM:-0500
TZOFFSETTO:-0400
TZNAME:EDT
DTSTART:20210314T070000
END:DAYLIGHT
BEGIN:STANDARD
TZOFFSETFROM:-0400
TZOFFSETTO:-0500
TZNAME:EST
DTSTART:20211107T060000
END:STANDARD
BEGIN:DAYLIGHT
TZOFFSETFROM:-0500
TZOFFSETTO:-0400
TZNAME:EDT
DTSTART:20220313T070000
END:DAYLIGHT
BEGIN:STANDARD
TZOFFSETFROM:-0400
TZOFFSETTO:-0500
TZNAME:EST
DTSTART:20221106T060000
END:STANDARD
BEGIN:DAYLIGHT
TZOFFSETFROM:-0500
TZOFFSETTO:-0400
TZNAME:EDT
DTSTART:20230312T070000
END:DAYLIGHT
BEGIN:STANDARD
TZOFFSETFROM:-0400
TZOFFSETTO:-0500
TZNAME:EST
DTSTART:20231105T060000
END:STANDARD
END:VTIMEZONE
BEGIN:VEVENT
DTSTART;VALUE=DATE:20220626
DTEND;VALUE=DATE:20220702
DTSTAMP:20260425T063106
CREATED:20220207T072108Z
LAST-MODIFIED:20220207T205721Z
UID:6269-1656201600-1656719999@edinborocamp.org
SUMMARY:Pathfinders Camp
DESCRIPTION:
URL:https://edinborocamp.org/event/pathfinders-camp/
LOCATION:Edinboro Camp & Retreat Center\, 12940 Fry Rd\, Edinboro\, PA\, 16412\, United States
END:VEVENT
BEGIN:VEVENT
DTSTART;VALUE=DATE:20220619
DTEND;VALUE=DATE:20220625
DTSTAMP:20260425T063106
CREATED:20220207T202108Z
LAST-MODIFIED:20220207T205726Z
UID:6266-1655596800-1656115199@edinborocamp.org
SUMMARY:Adventurers Camp
DESCRIPTION:
URL:https://edinborocamp.org/event/adventurers-camp/
LOCATION:Edinboro Camp & Retreat Center\, 12940 Fry Rd\, Edinboro\, PA\, 16412\, United States
END:VEVENT
BEGIN:VEVENT
DTSTART;VALUE=DATE:20220612
DTEND;VALUE=DATE:20220618
DTSTAMP:20260425T063106
CREATED:20220207T072108Z
LAST-MODIFIED:20220207T213911Z
UID:6279-1654992000-1655510399@edinborocamp.org
SUMMARY:Teen Camp
DESCRIPTION:
URL:https://edinborocamp.org/event/teen-camp/
LOCATION:Edinboro Camp & Retreat Center\, 12940 Fry Rd\, Edinboro\, PA\, 16412\, United States
END:VEVENT
BEGIN:VEVENT
DTSTART;VALUE=DATE:20220527
DTEND;VALUE=DATE:20220531
DTSTAMP:20260425T063106
CREATED:20220519T033651Z
LAST-MODIFIED:20220519T033651Z
UID:6434-1653609600-1653955199@edinborocamp.org
SUMMARY:Memorial Day Campout
DESCRIPTION:
URL:https://edinborocamp.org/event/memorial-day-campout/
LOCATION:Edinboro Camp & Retreat Center\, 12940 Fry Rd\, Edinboro\, PA\, 16412\, United States
END:VEVENT
BEGIN:VEVENT
DTSTART;TZID=America/New_York:20220327T160000
DTEND;TZID=America/New_York:20220327T180000
DTSTAMP:20260425T063106
CREATED:20220309T181459Z
LAST-MODIFIED:20220309T181459Z
UID:6356-1648396800-1648404000@edinborocamp.org
SUMMARY:Parent Open House
DESCRIPTION:You are invited to a Parent Open House at Edinboro Camp! \nWho: Parents new to Edinboro Camp who have questions about the camp and are unsure about sending their child\, parents who want the best camp experience for their child \nWhat: An overview of what your child will experience at Edinboro Camp (schedule\, meals\, services\, counselors\, games and activities\, free time\, etc.)\, a chance to hear from experienced parents\, and a chance to ask any questions you might have \nWhen: Sunday\, March 27\, 4:00-6:00 pm \nWhere: Edinboro Camp\, 12940 Fry Rd\, Edinboro\, PA 16412 \nRegistration is not necessary\, but if you can send a quick email to edinborocamp@gmail.com to say you're coming\, that would be helpful. Hope to see you there!
URL:https://edinborocamp.org/event/parent-open-house/
LOCATION:Edinboro Camp & Retreat Center\, 12940 Fry Rd\, Edinboro\, PA\, 16412\, United States
END:VEVENT
BEGIN:VEVENT
DTSTART;TZID=America/New_York:20220226T120000
DTEND;TZID=America/New_York:20220226T140000
DTSTAMP:20260425T063106
CREATED:20220203T015051Z
LAST-MODIFIED:20220203T015051Z
UID:6249-1645876800-1645884000@edinborocamp.org
SUMMARY:Chili Cook off
DESCRIPTION:
URL:https://edinborocamp.org/event/chili-cook-off/
LOCATION:Edinboro Camp & Retreat Center\, 12940 Fry Rd\, Edinboro\, PA\, 16412\, United States
END:VEVENT
BEGIN:VEVENT
DTSTART;VALUE=DATE:20220204
DTEND;VALUE=DATE:20220207
DTSTAMP:20260425T063106
CREATED:20211206T183001Z
LAST-MODIFIED:20211206T183556Z
UID:6215-1643932800-1644191999@edinborocamp.org
SUMMARY:Snow Camp: Grades 1-4
DESCRIPTION:Come\, bring your friends and join us for lots of winter fun and learn more from God's Word. Plan for good times inside and out! Bring a warm coat\, snow pants\, hat\, gloves\, boots\, & plenty of extra clothes\, slippers\, PJs\, a sleeping bag\, pillow\, personal items\, and a Bible. NO cell phones\, personal electronic games\, or listening devices. Let's enjoy a few undistracted hours of fellowship with each other and God! \n\n-Registration deadline: postmarked by January 5.\n-Cost is $75 (includes a t-shirt)\, $25 late registration fee.\n-For all camps\, Friday check in is 6:30 pm\, Sunday pick up is 1:30 pm. \nRegister at https://edinborocamp.org/snow-camp/
URL:https://edinborocamp.org/event/snow-camp-grades-1-4/
LOCATION:Edinboro Camp & Retreat Center\, 12940 Fry Rd\, Edinboro\, PA\, 16412\, United States
END:VEVENT
BEGIN:VEVENT
DTSTART;VALUE=DATE:20220128
DTEND;VALUE=DATE:20220131
DTSTAMP:20260425T063106
CREATED:20211206T183001Z
LAST-MODIFIED:20211206T183112Z
UID:6209-1643328000-1643587199@edinborocamp.org
SUMMARY:Snow Camp: Grades 5-8
DESCRIPTION:Come\, bring your friends and join us for lots of winter fun and learn more from God's Word. Plan for good times inside and out! Bring a warm coat\, snow pants\, hat\, gloves\, boots\, & plenty of extra clothes\, slippers\, PJs\, a sleeping bag\, pillow\, personal items\, and a Bible. NO cell phones\, personal electronic games\, or listening devices. Let's enjoy a few undistracted hours of fellowship with each other and God! \n\n-Registration deadline: postmarked by January 5.\n-Cost is $75 (includes a t-shirt)\, $25 late registration fee.\n-For all camps\, Friday check in is 6:30 pm\, Sunday pick up is 1:30 pm. \nRegister at https://edinborocamp.org/snow-camp/
URL:https://edinborocamp.org/event/snow-camp-grades-5-8/
LOCATION:Edinboro Camp & Retreat Center\, 12940 Fry Rd\, Edinboro\, PA\, 16412\, United States
END:VEVENT
BEGIN:VEVENT
DTSTART;VALUE=DATE:20220121
DTEND;VALUE=DATE:20220124
DTSTAMP:20260425T063106
CREATED:20211206T183001Z
LAST-MODIFIED:20211206T183354Z
UID:6212-1642723200-1642982399@edinborocamp.org
SUMMARY:Snow Camp: Grades 9-12
DESCRIPTION:Come\, bring your friends and join us for lots of winter fun and learn more from God's Word. Plan for good times inside and out! Bring a warm coat\, snow pants\, hat\, gloves\, boots\, & plenty of extra clothes\, slippers\, PJs\, a sleeping bag\, pillow\, personal items\, and a Bible. NO cell phones\, personal electronic games\, or listening devices. Let's enjoy a few undistracted hours of fellowship with each other and God! \n\n-Registration deadline: postmarked by January 5.\n-Cost is $75 (includes a t-shirt)\, $25 late registration fee.\n-For all camps\, Friday check in is 6:30 pm\, Sunday pick up is 1:30 pm. \nRegister at https://edinborocamp.org/snow-camp/
URL:https://edinborocamp.org/event/snow-camp-grades-9-12/
LOCATION:Edinboro Camp & Retreat Center\, 12940 Fry Rd\, Edinboro\, PA\, 16412\, United States
END:VEVENT
BEGIN:VEVENT
DTSTART;TZID=America/New_York:20211002T130000
DTEND;TZID=America/New_York:20211002T170000
DTSTAMP:20260425T063106
CREATED:20210906T234727Z
LAST-MODIFIED:20210906T234727Z
UID:6052-1633179600-1633194000@edinborocamp.org
SUMMARY:Fall Fest
DESCRIPTION:Join us for our Fall Festival! \nIf you would like to be a vendor please emails the camp at edinborocamp@gmail.com with a description of your products (please include pictures if possible) and we will let you know if it's what we're looking for.
URL:https://edinborocamp.org/event/fall-fest/
LOCATION:Edinboro Camp & Retreat Center\, 12940 Fry Rd\, Edinboro\, PA\, 16412\, United States
END:VEVENT
BEGIN:VEVENT
DTSTART;TZID=America/New_York:20210213T090000
DTEND;TZID=America/New_York:20210213T190000
DTSTAMP:20260425T063106
CREATED:20210106T214538Z
LAST-MODIFIED:20210106T214538Z
UID:5506-1613206800-1613242800@edinborocamp.org
SUMMARY:Winter Camp-Junior High-Grades 5-8
DESCRIPTION:
URL:https://edinborocamp.org/event/winter-camp-junior-high-grades-5-8/
LOCATION:PA
END:VEVENT
BEGIN:VEVENT
DTSTART;TZID=America/New_York:20210130T090000
DTEND;TZID=America/New_York:20210130T190000
DTSTAMP:20260425T063106
CREATED:20210106T213854Z
LAST-MODIFIED:20210106T214315Z
UID:5502-1611997200-1612033200@edinborocamp.org
SUMMARY:Winter Camp-Senior High-Grades 9-12
DESCRIPTION:
URL:https://edinborocamp.org/event/winter-camp-senior-high-grades-9-12/
LOCATION:PA
END:VEVENT
BEGIN:VEVENT
DTSTART;TZID=America/New_York:20210116T090000
DTEND;TZID=America/New_York:20210116T190000
DTSTAMP:20260425T063106
CREATED:20210106T184417Z
LAST-MODIFIED:20210106T213556Z
UID:5499-1610787600-1610823600@edinborocamp.org
SUMMARY:Girard Youth Retreat
DESCRIPTION:
URL:https://edinborocamp.org/event/girard-youth-retreat/
LOCATION:PA
END:VEVENT
BEGIN:VEVENT
DTSTART;TZID=America/New_York:20200727T080000
DTEND;TZID=America/New_York:20200731T200000
DTSTAMP:20260425T063106
CREATED:20200317T174933Z
LAST-MODIFIED:20200619T214644Z
UID:4274-1595836800-1596225600@edinborocamp.org
SUMMARY:July 27-31.   Week 4 of Virtual Camp.   Ages 6-18.
DESCRIPTION:Sign your child up for Virtual Camp.  See details\, by going to:\n1. www.EdinboroCamp.org\n2. Highlight over CAMPS Tab.\n3. Highlight over VIRTUAL CAMP Tab\n4. We have Four Weeks of Virtual Camp with Challenges and Prizes\n5. You can Connect with God\, Connect with Others\, and Connect with Family.
URL:https://edinborocamp.org/event/july-27-31-week-4-of-virtual-camp-ages-6-18/
LOCATION:PA
END:VEVENT
BEGIN:VEVENT
DTSTART;TZID=America/New_York:20200720T080000
DTEND;TZID=America/New_York:20200724T200000
DTSTAMP:20260425T063106
CREATED:20200317T174422Z
LAST-MODIFIED:20200619T214902Z
UID:4268-1595232000-1595620800@edinborocamp.org
SUMMARY:July 20-24.   Week 3 of Virtual Camp.   Ages 6-18.
DESCRIPTION:Sign your child up for Virtual Camp.  See details\, by going to:\n1. www.EdinboroCamp.org\n2. Highlight over CAMPS Tab.\n3. Highlight over VIRTUAL CAMP Tab\n4. We have Four Weeks of Virtual Camp with Challenges and Prizes\n5. You can Connect with God\, Connect with Others\, and Connect with Family.
URL:https://edinborocamp.org/event/week-3-of-virtual-camp-july-20-24-ages-6-18/
LOCATION:PA
END:VEVENT
BEGIN:VEVENT
DTSTART;TZID=America/New_York:20200713T080000
DTEND;TZID=America/New_York:20200717T200000
DTSTAMP:20260425T063106
CREATED:20200317T174237Z
LAST-MODIFIED:20200619T215006Z
UID:4266-1594627200-1595016000@edinborocamp.org
SUMMARY:July 13-17.    Week 2 of Virtual Camp.   Ages 6-18.
DESCRIPTION:Sign your child up for Virtual Camp.  See details\, by going to:\n1. www.EdinboroCamp.org\n2. Highlight over CAMPS Tab.\n3. Highlight over VIRTUAL CAMP Tab\n4. We have Four Weeks of Virtual Camp with Challenges and Prizes\n5. You can Connect with God\, Connect with Others\, and Connect with Family.
URL:https://edinborocamp.org/event/week-2-of-virtual-camp-july-13-17-ages-6-18/
LOCATION:PA
END:VEVENT
BEGIN:VEVENT
DTSTART;TZID=America/New_York:20200706T080000
DTEND;TZID=America/New_York:20200710T200000
DTSTAMP:20260425T063106
CREATED:20200317T173931Z
LAST-MODIFIED:20200619T215110Z
UID:4264-1594022400-1594411200@edinborocamp.org
SUMMARY:July 6-10.     Week 1 of Virtual Camp.     Ages 6-18.
DESCRIPTION:Sign your child up for Virtual Camp.  See details\, by going to:\n1. www.EdinboroCamp.org\n2. Highlight over CAMPS Tab.\n3. Highlight over VIRTUAL CAMP Tab\n4. We have Four Weeks of Virtual Camp with Challenges and Prizes\n5. You can Connect with God\, Connect with Others\, and Connect with Family.\n 
URL:https://edinborocamp.org/event/july-6-10-week-1-of-virtual-camp-ages-6-18/
LOCATION:PA
END:VEVENT
BEGIN:VEVENT
DTSTART;TZID=America/New_York:20200612T180000
DTEND;TZID=America/New_York:20200630T190000
DTSTAMP:20260425T063106
CREATED:20200318T173931Z
LAST-MODIFIED:20200619T211713Z
UID:4926-1591984800-1593543600@edinborocamp.org
SUMMARY:Sorry\, Due to the Pandemic\, All our June & July Overnight and Day Camps were Canceled.
DESCRIPTION:Sorry\, Due to the Pandemic\, All our June & July Overnight and Day Camps are Canceled.
URL:https://edinborocamp.org/event/june-12-30/
LOCATION:PA
END:VEVENT
BEGIN:VEVENT
DTSTART;TZID=America/New_York:20200525T183000
DTEND;TZID=America/New_York:20200525T210000
DTSTAMP:20260425T063106
CREATED:20200213T174654Z
LAST-MODIFIED:20200213T174654Z
UID:3983-1590431400-1590440400@edinborocamp.org
SUMMARY:Executive Board Meeting at Edinboro Camp
DESCRIPTION:
URL:https://edinborocamp.org/event/executive-board-meeting-at-edinboro-camp-6/
LOCATION:PA
END:VEVENT
BEGIN:VEVENT
DTSTART;TZID=America/New_York:20200517T120000
DTEND;TZID=America/New_York:20200517T133000
DTSTAMP:20260425T063106
CREATED:20200214T165446Z
LAST-MODIFIED:20200317T165549Z
UID:3978-1589716800-1589722200@edinborocamp.org
SUMMARY:Minister to Sterrettania C&MA Youth Group
DESCRIPTION:If in Grades 6-12\, come and enjoy a time of Food\, Fellowship\, Fun Activity and a Time of Inspiration!
URL:https://edinborocamp.org/event/minister-to-sterrettania-cma-youth-group-2-copy/
LOCATION:PA
END:VEVENT
BEGIN:VEVENT
DTSTART;TZID=America/New_York:20200516T180000
DTEND;TZID=America/New_York:20200516T200000
DTSTAMP:20260425T063106
CREATED:20200213T174529Z
LAST-MODIFIED:20200213T174529Z
UID:3981-1589652000-1589659200@edinborocamp.org
SUMMARY:FOCUS Worship Night at Edinboro Camp & Retreat Center
DESCRIPTION:More details coming! \nWill be a night open for all churches and youth.  We will have a time of Games\, Activities\, Worship and a Speaker. \nA great opportunity to FOCUS on our LORD JESUS!
URL:https://edinborocamp.org/event/focus-worship-night-at-edinboro-camp-retreat-center/
LOCATION:PA
END:VEVENT
BEGIN:VEVENT
DTSTART;TZID=America/New_York:20200509T200000
DTEND;TZID=America/New_York:20200509T220000
DTSTAMP:20260425T063106
CREATED:20200213T165011Z
LAST-MODIFIED:20200213T165011Z
UID:3972-1589054400-1589061600@edinborocamp.org
SUMMARY:Speak at Meadville Area Young Adult Group
DESCRIPTION:
URL:https://edinborocamp.org/event/speak-at-meadville-area-young-adult-group/
LOCATION:PA
END:VEVENT
BEGIN:VEVENT
DTSTART;TZID=America/New_York:20200508T090000
DTEND;TZID=America/New_York:20200508T140000
DTSTAMP:20260425T063106
CREATED:20200213T164609Z
LAST-MODIFIED:20200213T164609Z
UID:3969-1588928400-1588946400@edinborocamp.org
SUMMARY:Meadville Calvary Academy - Clean up Day at Edinboro Camp
DESCRIPTION:
URL:https://edinborocamp.org/event/meadville-calvary-academy-clean-up-day-at-edinboro-camp/
LOCATION:PA
END:VEVENT
BEGIN:VEVENT
DTSTART;TZID=America/New_York:20200503T080000
DTEND;TZID=America/New_York:20200503T170000
DTSTAMP:20260425T063106
CREATED:20200213T165346Z
LAST-MODIFIED:20200317T165440Z
UID:3974-1588492800-1588525200@edinborocamp.org
SUMMARY:Minister to Sterrettania C&MA Youth Group
DESCRIPTION:If in Grades 6-12\, come and enjoy a time of Food\, Fellowship\, Fun Activity and a Time of Inspiration!
URL:https://edinborocamp.org/event/minister-to-sterrettania-cma-youth-group/
LOCATION:PA
END:VEVENT
BEGIN:VEVENT
DTSTART;TZID=America/New_York:20200501T150000
DTEND;TZID=America/New_York:20200503T170000
DTSTAMP:20260425T063106
CREATED:20200213T164414Z
LAST-MODIFIED:20200213T164414Z
UID:3967-1588345200-1588525200@edinborocamp.org
SUMMARY:Girard Alliance Women's Retreat
DESCRIPTION:
URL:https://edinborocamp.org/event/girard-alliance-womens-retreat/
LOCATION:PA
END:VEVENT
BEGIN:VEVENT
DTSTART;TZID=America/New_York:20200427T183000
DTEND;TZID=America/New_York:20200427T210000
DTSTAMP:20260425T063106
CREATED:20200213T164024Z
LAST-MODIFIED:20200213T164024Z
UID:3965-1588012200-1588021200@edinborocamp.org
SUMMARY:Executive Board Meeting at Edinboro Camp
DESCRIPTION:
URL:https://edinborocamp.org/event/executive-board-meeting-at-edinboro-camp-4/
LOCATION:PA
END:VEVENT
BEGIN:VEVENT
DTSTART;TZID=America/New_York:20200426T173000
DTEND;TZID=America/New_York:20200426T193000
DTSTAMP:20260425T063106
CREATED:20200317T171026Z
LAST-MODIFIED:20200317T171026Z
UID:4252-1587922200-1587929400@edinborocamp.org
SUMMARY:Promote Camp at Millcreek Community Youth Group
DESCRIPTION:Parent Night at Youth Group – 5:30 pm to 7:30 pm\nPastor Blair will share about the camp!
URL:https://edinborocamp.org/event/promote-camp-at-millcreek-community-youth-group/
LOCATION:PA
END:VEVENT
BEGIN:VEVENT
DTSTART;TZID=America/New_York:20200426T110000
DTEND;TZID=America/New_York:20200426T120000
DTSTAMP:20260425T063106
CREATED:20200317T170422Z
LAST-MODIFIED:20200317T170422Z
UID:4250-1587898800-1587902400@edinborocamp.org
SUMMARY:Promote Camp at Cambridge Springs Alliance Church
DESCRIPTION:Sunday School Starts at 9:45 am\nChurch Service Starts at 11:00 am
URL:https://edinborocamp.org/event/promote-camp-at-cambridge-springs-alliance-church/
LOCATION:PA
END:VEVENT
BEGIN:VEVENT
DTSTART;TZID=America/New_York:20200419T120000
DTEND;TZID=America/New_York:20200419T133000
DTSTAMP:20260425T063106
CREATED:20200213T162645Z
LAST-MODIFIED:20200317T165354Z
UID:3961-1587297600-1587303000@edinborocamp.org
SUMMARY:Minister at Sterrettania C&MA Youth Group
DESCRIPTION:If in Grades 6-12\, come and enjoy a time of Food\, Fellowship\, Fun Activity and a Time of Inspiration!
URL:https://edinborocamp.org/event/minister-at-sterrettania-cma-youth-group-4/
LOCATION:PA
END:VEVENT
BEGIN:VEVENT
DTSTART;TZID=America/New_York:20200408T070000
DTEND;TZID=America/New_York:20200408T213000
DTSTAMP:20260425T063106
CREATED:20200213T162939Z
LAST-MODIFIED:20200213T162939Z
UID:3963-1586329200-1586381400@edinborocamp.org
SUMMARY:MOPS Group Meeting at Edinboro Camp
DESCRIPTION:
URL:https://edinborocamp.org/event/mops-group-meeting-at-edinboro-camp-2/
LOCATION:PA
END:VEVENT
END:VCALENDAR