BEGIN:VCALENDAR
VERSION:2.0
PRODID:-//Edinboro Camp and Retreat Center :: Youth Camp - Family Camp - Retreats - ECPv6.15.18//NONSGML v1.0//EN
CALSCALE:GREGORIAN
METHOD:PUBLISH
X-WR-CALNAME:Edinboro Camp and Retreat Center :: Youth Camp - Family Camp - Retreats
X-ORIGINAL-URL:https://edinborocamp.org
X-WR-CALDESC:Events for Edinboro Camp and Retreat Center :: Youth Camp - Family Camp - Retreats
REFRESH-INTERVAL;VALUE=DURATION:PT1H
X-Robots-Tag:noindex
X-PUBLISHED-TTL:PT1H
BEGIN:VTIMEZONE
TZID:America/New_York
BEGIN:DAYLIGHT
TZOFFSETFROM:-0500
TZOFFSETTO:-0400
TZNAME:EDT
DTSTART:20170312T070000
END:DAYLIGHT
BEGIN:STANDARD
TZOFFSETFROM:-0400
TZOFFSETTO:-0500
TZNAME:EST
DTSTART:20171105T060000
END:STANDARD
BEGIN:DAYLIGHT
TZOFFSETFROM:-0500
TZOFFSETTO:-0400
TZNAME:EDT
DTSTART:20180311T070000
END:DAYLIGHT
BEGIN:STANDARD
TZOFFSETFROM:-0400
TZOFFSETTO:-0500
TZNAME:EST
DTSTART:20181104T060000
END:STANDARD
BEGIN:DAYLIGHT
TZOFFSETFROM:-0500
TZOFFSETTO:-0400
TZNAME:EDT
DTSTART:20190310T070000
END:DAYLIGHT
BEGIN:STANDARD
TZOFFSETFROM:-0400
TZOFFSETTO:-0500
TZNAME:EST
DTSTART:20191103T060000
END:STANDARD
END:VTIMEZONE
BEGIN:VEVENT
DTSTART;TZID=America/New_York:20180113T120000
DTEND;TZID=America/New_York:20180113T140000
DTSTAMP:20260425T105930
CREATED:20171228T200501Z
LAST-MODIFIED:20171228T200903Z
UID:991-1515844800-1515852000@edinborocamp.org
SUMMARY:Chili & Soup Cook Off
DESCRIPTION:It's our 13th Annual Chili & Soup Cook Off. We hope you will join us! You’ll have a SOUPer fun time even if it’s CHILI outside. Trophies will be awarded: 1st\, 2nd\, 3rd place for: \n\nBest Chili\nBest Soup\, plus\nBest Decorated Table.\n\nAwards will be presented to both Adult & Youth (16 or younger) Divisions. Youth must have an adult sponsor to oversee cooking and serving. \nSoup served Noon to 1:45 pm | Awards Announced 1:45 pm | Admission is by Donation \nTo sign up to bring a soup and or desserts\, contact Pastor Blair Blakeslee at 814-882-9816. \nHOPE TO SEE YOU OUT AT THE CAMPGROUND IN OUR NEW BUILDING!
URL:https://edinborocamp.org/event/chili-soup-cook-off/
LOCATION:PA
CATEGORIES:public events
END:VEVENT
BEGIN:VEVENT
DTSTART;VALUE=DATE:20180101
DTEND;VALUE=DATE:20180102
DTSTAMP:20260425T105930
CREATED:20171230T014937Z
LAST-MODIFIED:20171230T014937Z
UID:1057-1514764800-1514851199@edinborocamp.org
SUMMARY:New Year's Day
DESCRIPTION:
URL:https://edinborocamp.org/event/new-years-day/
LOCATION:PA
END:VEVENT
END:VCALENDAR