BEGIN:VCALENDAR
VERSION:2.0
PRODID:-//Edinboro Camp and Retreat Center :: Youth Camp - Family Camp - Retreats - ECPv6.15.18//NONSGML v1.0//EN
CALSCALE:GREGORIAN
METHOD:PUBLISH
X-ORIGINAL-URL:https://edinborocamp.org
X-WR-CALDESC:Events for Edinboro Camp and Retreat Center :: Youth Camp - Family Camp - Retreats
REFRESH-INTERVAL;VALUE=DURATION:PT1H
X-Robots-Tag:noindex
X-PUBLISHED-TTL:PT1H
BEGIN:VTIMEZONE
TZID:America/New_York
BEGIN:DAYLIGHT
TZOFFSETFROM:-0500
TZOFFSETTO:-0400
TZNAME:EDT
DTSTART:20250309T070000
END:DAYLIGHT
BEGIN:STANDARD
TZOFFSETFROM:-0400
TZOFFSETTO:-0500
TZNAME:EST
DTSTART:20251102T060000
END:STANDARD
BEGIN:DAYLIGHT
TZOFFSETFROM:-0500
TZOFFSETTO:-0400
TZNAME:EDT
DTSTART:20260308T070000
END:DAYLIGHT
BEGIN:STANDARD
TZOFFSETFROM:-0400
TZOFFSETTO:-0500
TZNAME:EST
DTSTART:20261101T060000
END:STANDARD
BEGIN:DAYLIGHT
TZOFFSETFROM:-0500
TZOFFSETTO:-0400
TZNAME:EDT
DTSTART:20270314T070000
END:DAYLIGHT
BEGIN:STANDARD
TZOFFSETFROM:-0400
TZOFFSETTO:-0500
TZNAME:EST
DTSTART:20271107T060000
END:STANDARD
END:VTIMEZONE
BEGIN:VEVENT
DTSTART;VALUE=DATE:20260705
DTEND;VALUE=DATE:20260711
DTSTAMP:20260423T195718
CREATED:20260125T222115Z
LAST-MODIFIED:20260125T222115Z
UID:7942-1783209600-1783727999@edinborocamp.org
SUMMARY:Trailblazer Camp (ages 8-9)
DESCRIPTION:
URL:https://edinborocamp.org/event/trailblazer-camp-ages-8-9-2/
END:VEVENT
BEGIN:VEVENT
DTSTART;VALUE=DATE:20260713
DTEND;VALUE=DATE:20260718
DTSTAMP:20260423T195718
CREATED:20260125T222146Z
LAST-MODIFIED:20260125T222146Z
UID:7944-1783900800-1784332799@edinborocamp.org
SUMMARY:Exceptional Adults (ages 18+)
DESCRIPTION:
URL:https://edinborocamp.org/event/exceptional-adults-ages-18/
END:VEVENT
BEGIN:VEVENT
DTSTART;VALUE=DATE:20260719
DTEND;VALUE=DATE:20260725
DTSTAMP:20260423T195718
CREATED:20260125T222208Z
LAST-MODIFIED:20260125T222208Z
UID:7946-1784419200-1784937599@edinborocamp.org
SUMMARY:Base Camp (ages 13-18)
DESCRIPTION:
URL:https://edinborocamp.org/event/base-camp-ages-13-18/
END:VEVENT
BEGIN:VEVENT
DTSTART;VALUE=DATE:20260801
DTEND;VALUE=DATE:20260810
DTSTAMP:20260423T195718
CREATED:20260125T222229Z
LAST-MODIFIED:20260125T222229Z
UID:7948-1785542400-1786319999@edinborocamp.org
SUMMARY:Family Camp (all ages)
DESCRIPTION:
URL:https://edinborocamp.org/event/family-camp-all-ages/
END:VEVENT
BEGIN:VEVENT
DTSTART;VALUE=DATE:20260904
DTEND;VALUE=DATE:20260908
DTSTAMP:20260423T195718
CREATED:20260125T222252Z
LAST-MODIFIED:20260125T222252Z
UID:7950-1788480000-1788825599@edinborocamp.org
SUMMARY:Labor Day Campout
DESCRIPTION:
URL:https://edinborocamp.org/event/labor-day-campout-4/
END:VEVENT
END:VCALENDAR