BEGIN:VCALENDAR
VERSION:2.0
PRODID:-//Edinboro Camp and Retreat Center :: Youth Camp - Family Camp - Retreats - ECPv6.15.18//NONSGML v1.0//EN
CALSCALE:GREGORIAN
METHOD:PUBLISH
X-WR-CALNAME:Edinboro Camp and Retreat Center :: Youth Camp - Family Camp - Retreats
X-ORIGINAL-URL:https://edinborocamp.org
X-WR-CALDESC:Events for Edinboro Camp and Retreat Center :: Youth Camp - Family Camp - Retreats
REFRESH-INTERVAL;VALUE=DURATION:PT1H
X-Robots-Tag:noindex
X-PUBLISHED-TTL:PT1H
BEGIN:VTIMEZONE
TZID:America/New_York
BEGIN:DAYLIGHT
TZOFFSETFROM:-0500
TZOFFSETTO:-0400
TZNAME:EDT
DTSTART:20230312T070000
END:DAYLIGHT
BEGIN:STANDARD
TZOFFSETFROM:-0400
TZOFFSETTO:-0500
TZNAME:EST
DTSTART:20231105T060000
END:STANDARD
BEGIN:DAYLIGHT
TZOFFSETFROM:-0500
TZOFFSETTO:-0400
TZNAME:EDT
DTSTART:20240310T070000
END:DAYLIGHT
BEGIN:STANDARD
TZOFFSETFROM:-0400
TZOFFSETTO:-0500
TZNAME:EST
DTSTART:20241103T060000
END:STANDARD
BEGIN:DAYLIGHT
TZOFFSETFROM:-0500
TZOFFSETTO:-0400
TZNAME:EDT
DTSTART:20250309T070000
END:DAYLIGHT
BEGIN:STANDARD
TZOFFSETFROM:-0400
TZOFFSETTO:-0500
TZNAME:EST
DTSTART:20251102T060000
END:STANDARD
BEGIN:DAYLIGHT
TZOFFSETFROM:-0500
TZOFFSETTO:-0400
TZNAME:EDT
DTSTART:20260308T070000
END:DAYLIGHT
BEGIN:STANDARD
TZOFFSETFROM:-0400
TZOFFSETTO:-0500
TZNAME:EST
DTSTART:20261101T060000
END:STANDARD
END:VTIMEZONE
BEGIN:VEVENT
DTSTART;VALUE=DATE:20250714
DTEND;VALUE=DATE:20250719
DTSTAMP:20260423T195836
CREATED:20241010T012138Z
LAST-MODIFIED:20241010T012417Z
UID:7465-1752451200-1752883199@edinborocamp.org
SUMMARY:Exceptional Adults Camp 2 (Age 18+)
DESCRIPTION:
URL:https://edinborocamp.org/event/exceptional-adults-camp-2/
LOCATION:Edinboro Camp & Retreat Center\, 12940 Fry Rd\, Edinboro\, PA\, 16412\, United States
END:VEVENT
BEGIN:VEVENT
DTSTART;VALUE=DATE:20250706
DTEND;VALUE=DATE:20250712
DTSTAMP:20260423T195836
CREATED:20241010T012114Z
LAST-MODIFIED:20241010T012114Z
UID:7463-1751760000-1752278399@edinborocamp.org
SUMMARY:Trailblazer Camp (age 8-9)
DESCRIPTION:
URL:https://edinborocamp.org/event/trailblazer-camp-age-8-9-3/
LOCATION:Edinboro Camp & Retreat Center\, 12940 Fry Rd\, Edinboro\, PA\, 16412\, United States
END:VEVENT
BEGIN:VEVENT
DTSTART;VALUE=DATE:20250630
DTEND;VALUE=DATE:20250705
DTSTAMP:20260423T195836
CREATED:20241010T012049Z
LAST-MODIFIED:20241010T012049Z
UID:7461-1751241600-1751673599@edinborocamp.org
SUMMARY:Day Camp (age 6-9)
DESCRIPTION:
URL:https://edinborocamp.org/event/day-camp-age-6-9-3/
LOCATION:Edinboro Camp & Retreat Center\, 12940 Fry Rd\, Edinboro\, PA\, 16412\, United States
END:VEVENT
BEGIN:VEVENT
DTSTART;VALUE=DATE:20250622
DTEND;VALUE=DATE:20250628
DTSTAMP:20260423T195836
CREATED:20241010T012022Z
LAST-MODIFIED:20241010T012022Z
UID:7459-1750550400-1751068799@edinborocamp.org
SUMMARY:Pathfinder Camp (age 10-11)
DESCRIPTION:
URL:https://edinborocamp.org/event/pathfinder-camp-age-10-11-3/
LOCATION:Edinboro Camp & Retreat Center\, 12940 Fry Rd\, Edinboro\, PA\, 16412\, United States
END:VEVENT
BEGIN:VEVENT
DTSTART;VALUE=DATE:20250615
DTEND;VALUE=DATE:20250621
DTSTAMP:20260423T195836
CREATED:20241010T011956Z
LAST-MODIFIED:20241010T011956Z
UID:7457-1749945600-1750463999@edinborocamp.org
SUMMARY:Adventure Camp (age 12-14)
DESCRIPTION:
URL:https://edinborocamp.org/event/adventure-camp-age-12-14-3/
LOCATION:Edinboro Camp & Retreat Center\, 12940 Fry Rd\, Edinboro\, PA\, 16412\, United States
END:VEVENT
BEGIN:VEVENT
DTSTART;VALUE=DATE:20250608
DTEND;VALUE=DATE:20250614
DTSTAMP:20260423T195836
CREATED:20241010T011931Z
LAST-MODIFIED:20241010T011931Z
UID:7455-1749340800-1749859199@edinborocamp.org
SUMMARY:Teen Camp (age 15-18)
DESCRIPTION:
URL:https://edinborocamp.org/event/teen-camp-age-15-18-3/
LOCATION:Edinboro Camp & Retreat Center\, 12940 Fry Rd\, Edinboro\, PA\, 16412\, United States
END:VEVENT
BEGIN:VEVENT
DTSTART;VALUE=DATE:20250602
DTEND;VALUE=DATE:20250607
DTSTAMP:20260423T195836
CREATED:20241010T011906Z
LAST-MODIFIED:20241010T011906Z
UID:7453-1748822400-1749254399@edinborocamp.org
SUMMARY:Exceptional Adults Camp 1(Age 18+)
DESCRIPTION:
URL:https://edinborocamp.org/event/exceptional-adults-camp-1age-18/
LOCATION:Edinboro Camp & Retreat Center\, 12940 Fry Rd\, Edinboro\, PA\, 16412\, United States
END:VEVENT
BEGIN:VEVENT
DTSTART;VALUE=DATE:20250530
DTEND;VALUE=DATE:20250602
DTSTAMP:20260423T195836
CREATED:20241010T011816Z
LAST-MODIFIED:20241010T011816Z
UID:7451-1748563200-1748822399@edinborocamp.org
SUMMARY:Staff Training
DESCRIPTION:
URL:https://edinborocamp.org/event/staff-training/
LOCATION:Edinboro Camp & Retreat Center\, 12940 Fry Rd\, Edinboro\, PA\, 16412\, United States
END:VEVENT
BEGIN:VEVENT
DTSTART;VALUE=DATE:20250523
DTEND;VALUE=DATE:20250527
DTSTAMP:20260423T195836
CREATED:20241010T011736Z
LAST-MODIFIED:20241010T011736Z
UID:7449-1747958400-1748303999@edinborocamp.org
SUMMARY:Memorial Day Campout
DESCRIPTION:
URL:https://edinborocamp.org/event/memorial-day-campout-4/
LOCATION:Edinboro Camp & Retreat Center\, 12940 Fry Rd\, Edinboro\, PA\, 16412\, United States
END:VEVENT
BEGIN:VEVENT
DTSTART;TZID=America/New_York:20250308T120000
DTEND;TZID=America/New_York:20250308T140000
DTSTAMP:20260423T195836
CREATED:20241010T011705Z
LAST-MODIFIED:20250206T190909Z
UID:7447-1741435200-1741442400@edinborocamp.org
SUMMARY:Soup and Chili Cookoff
DESCRIPTION:Register NowFirst Name *Last NameGroup *AdultYouthI'm bringing *SoupChiliDessertWhat kind of soup/chili/dessert? *Notes/QuestionsRegister
URL:https://edinborocamp.org/event/soup-and-chili-cookoff/
LOCATION:Edinboro Camp & Retreat Center\, 12940 Fry Rd\, Edinboro\, PA\, 16412\, United States
END:VEVENT
BEGIN:VEVENT
DTSTART;VALUE=DATE:20250207
DTEND;VALUE=DATE:20250210
DTSTAMP:20260423T195836
CREATED:20241010T011526Z
LAST-MODIFIED:20241010T011613Z
UID:7445-1738886400-1739145599@edinborocamp.org
SUMMARY:Snow Camp: 1st-3rd grade
DESCRIPTION:
URL:https://edinborocamp.org/event/snow-camp-1st-3rd-grade-2/
LOCATION:Edinboro Camp & Retreat Center\, 12940 Fry Rd\, Edinboro\, PA\, 16412\, United States
END:VEVENT
BEGIN:VEVENT
DTSTART;VALUE=DATE:20250131
DTEND;VALUE=DATE:20250203
DTSTAMP:20260423T195836
CREATED:20241010T011219Z
LAST-MODIFIED:20241230T213615Z
UID:7442-1738281600-1738540799@edinborocamp.org
SUMMARY:Snow Camp: 4th-6th grade
DESCRIPTION:
URL:https://edinborocamp.org/event/snow-camp-4th-6th-grade-2/
LOCATION:Edinboro Camp & Retreat Center\, 12940 Fry Rd\, Edinboro\, PA\, 16412\, United States
END:VEVENT
BEGIN:VEVENT
DTSTART;VALUE=DATE:20250117
DTEND;VALUE=DATE:20250120
DTSTAMP:20260423T195836
CREATED:20241010T011111Z
LAST-MODIFIED:20241230T213544Z
UID:7438-1737072000-1737331199@edinborocamp.org
SUMMARY:Snow Camp: 7th-8th grade
DESCRIPTION:
URL:https://edinborocamp.org/event/snow-camp-7th-8th-grade-2/
LOCATION:Edinboro Camp & Retreat Center\, 12940 Fry Rd\, Edinboro\, PA\, 16412\, United States
END:VEVENT
BEGIN:VEVENT
DTSTART;VALUE=DATE:20250110
DTEND;VALUE=DATE:20250113
DTSTAMP:20260423T195836
CREATED:20241010T011121Z
LAST-MODIFIED:20241010T011414Z
UID:7440-1736467200-1736726399@edinborocamp.org
SUMMARY:Snow Camp: 9th-12th grade
DESCRIPTION:
URL:https://edinborocamp.org/event/snow-camp-9th-12th-grade-2/
LOCATION:Edinboro Camp & Retreat Center\, 12940 Fry Rd\, Edinboro\, PA\, 16412\, United States
END:VEVENT
BEGIN:VEVENT
DTSTART;TZID=America/New_York:20240830T080000
DTEND;TZID=America/New_York:20240902T170000
DTSTAMP:20260423T195836
CREATED:20231010T232812Z
LAST-MODIFIED:20231010T232812Z
UID:7139-1725004800-1725296400@edinborocamp.org
SUMMARY:Labor Day Campout
DESCRIPTION:
URL:https://edinborocamp.org/event/labor-day-campout-2/
END:VEVENT
BEGIN:VEVENT
DTSTART;VALUE=DATE:20240803
DTEND;VALUE=DATE:20240812
DTSTAMP:20260423T195836
CREATED:20231010T232455Z
LAST-MODIFIED:20231010T232513Z
UID:7136-1722643200-1723420799@edinborocamp.org
SUMMARY:Family Camp
DESCRIPTION:
URL:https://edinborocamp.org/event/family-camp-4/
LOCATION:Edinboro Camp & Retreat Center\, 12940 Fry Rd\, Edinboro\, PA\, 16412\, United States
END:VEVENT
BEGIN:VEVENT
DTSTART;VALUE=DATE:20240721
DTEND;VALUE=DATE:20240727
DTSTAMP:20260423T195836
CREATED:20231010T232429Z
LAST-MODIFIED:20231010T232443Z
UID:7134-1721520000-1722038399@edinborocamp.org
SUMMARY:Base Camp (age 13-18)
DESCRIPTION:
URL:https://edinborocamp.org/event/base-camp-age-13-18-2/
LOCATION:Edinboro Camp & Retreat Center\, 12940 Fry Rd\, Edinboro\, PA\, 16412\, United States
END:VEVENT
BEGIN:VEVENT
DTSTART;VALUE=DATE:20240715
DTEND;VALUE=DATE:20240720
DTSTAMP:20260423T195836
CREATED:20231010T232351Z
LAST-MODIFIED:20231010T232421Z
UID:7131-1721001600-1721433599@edinborocamp.org
SUMMARY:Exceptional Adults Camp (Age 18+)
DESCRIPTION:
URL:https://edinborocamp.org/event/exceptional-adults-camp-age-18/
LOCATION:Edinboro Camp & Retreat Center\, 12940 Fry Rd\, Edinboro\, PA\, 16412\, United States
END:VEVENT
BEGIN:VEVENT
DTSTART;VALUE=DATE:20240707
DTEND;VALUE=DATE:20240713
DTSTAMP:20260423T195836
CREATED:20231010T232327Z
LAST-MODIFIED:20231010T232343Z
UID:7129-1720310400-1720828799@edinborocamp.org
SUMMARY:Trailblazer Camp (age 8-9)
DESCRIPTION:
URL:https://edinborocamp.org/event/trailblazer-camp-age-8-9-2/
LOCATION:Edinboro Camp & Retreat Center\, 12940 Fry Rd\, Edinboro\, PA\, 16412\, United States
END:VEVENT
BEGIN:VEVENT
DTSTART;VALUE=DATE:20240701
DTEND;VALUE=DATE:20240706
DTSTAMP:20260423T195836
CREATED:20231010T232246Z
LAST-MODIFIED:20231010T232317Z
UID:7127-1719792000-1720223999@edinborocamp.org
SUMMARY:Day Camp (age 6-9)
DESCRIPTION:
URL:https://edinborocamp.org/event/day-camp-age-6-9-2/
LOCATION:Edinboro Camp & Retreat Center\, 12940 Fry Rd\, Edinboro\, PA\, 16412\, United States
END:VEVENT
BEGIN:VEVENT
DTSTART;VALUE=DATE:20240623
DTEND;VALUE=DATE:20240629
DTSTAMP:20260423T195836
CREATED:20231010T232217Z
LAST-MODIFIED:20231010T232238Z
UID:7124-1719100800-1719619199@edinborocamp.org
SUMMARY:Pathfinder Camp (age 10-11)
DESCRIPTION:
URL:https://edinborocamp.org/event/pathfinder-camp-age-10-11-2/
LOCATION:Edinboro Camp & Retreat Center\, 12940 Fry Rd\, Edinboro\, PA\, 16412\, United States
END:VEVENT
BEGIN:VEVENT
DTSTART;VALUE=DATE:20240616
DTEND;VALUE=DATE:20240622
DTSTAMP:20260423T195836
CREATED:20231010T232103Z
LAST-MODIFIED:20231010T232211Z
UID:7122-1718496000-1719014399@edinborocamp.org
SUMMARY:Adventure Camp (age 12-14)
DESCRIPTION:
URL:https://edinborocamp.org/event/adventure-camp-age-12-14-2/
LOCATION:Edinboro Camp & Retreat Center\, 12940 Fry Rd\, Edinboro\, PA\, 16412\, United States
END:VEVENT
BEGIN:VEVENT
DTSTART;VALUE=DATE:20240609
DTEND;VALUE=DATE:20240615
DTSTAMP:20260423T195836
CREATED:20231010T232103Z
LAST-MODIFIED:20231010T232103Z
UID:7120-1717891200-1718409599@edinborocamp.org
SUMMARY:Teen Camp (age 15-18)
DESCRIPTION:
URL:https://edinborocamp.org/event/teen-camp-age-15-18-2/
LOCATION:Edinboro Camp & Retreat Center\, 12940 Fry Rd\, Edinboro\, PA\, 16412\, United States
END:VEVENT
BEGIN:VEVENT
DTSTART;VALUE=DATE:20240531
DTEND;VALUE=DATE:20240603
DTSTAMP:20260423T195836
CREATED:20231010T232032Z
LAST-MODIFIED:20231010T232032Z
UID:7118-1717113600-1717372799@edinborocamp.org
SUMMARY:Summer Staff Training
DESCRIPTION:
URL:https://edinborocamp.org/event/summer-staff-training/
LOCATION:Edinboro Camp & Retreat Center\, 12940 Fry Rd\, Edinboro\, PA\, 16412\, United States
END:VEVENT
BEGIN:VEVENT
DTSTART;VALUE=DATE:20240524
DTEND;VALUE=DATE:20240528
DTSTAMP:20260423T195836
CREATED:20231010T232006Z
LAST-MODIFIED:20240516T145747Z
UID:7116-1716508800-1716854399@edinborocamp.org
SUMMARY:Memorial Day Campout
DESCRIPTION:
URL:https://edinborocamp.org/event/memorial-day-campout-3/
LOCATION:Edinboro Camp & Retreat Center\, 12940 Fry Rd\, Edinboro\, PA\, 16412\, United States
END:VEVENT
BEGIN:VEVENT
DTSTART;VALUE=DATE:20240316
DTEND;VALUE=DATE:20240317
DTSTAMP:20260423T195836
CREATED:20231010T231940Z
LAST-MODIFIED:20240207T005048Z
UID:7113-1710547200-1710633599@edinborocamp.org
SUMMARY:Soup & Chili Cook Off
DESCRIPTION:
URL:https://edinborocamp.org/event/soup-chili-cook-off-2/
LOCATION:Edinboro Camp & Retreat Center\, 12940 Fry Rd\, Edinboro\, PA\, 16412\, United States
END:VEVENT
BEGIN:VEVENT
DTSTART;TZID=America/New_York:20240216T183000
DTEND;TZID=America/New_York:20240218T133000
DTSTAMP:20260423T195836
CREATED:20231010T231551Z
LAST-MODIFIED:20231010T231821Z
UID:7111-1708108200-1708263000@edinborocamp.org
SUMMARY:Snow Camp (1st-3rd Grade)
DESCRIPTION:Information: https://edinborocamp.org/snow-camp/
URL:https://edinborocamp.org/event/snow-camp-1st-3rd-grade/
LOCATION:Edinboro Camp & Retreat Center\, 12940 Fry Rd\, Edinboro\, PA\, 16412\, United States
END:VEVENT
BEGIN:VEVENT
DTSTART;TZID=America/New_York:20240202T183000
DTEND;TZID=America/New_York:20240204T133000
DTSTAMP:20260423T195836
CREATED:20231010T231551Z
LAST-MODIFIED:20231010T231737Z
UID:7109-1706898600-1707053400@edinborocamp.org
SUMMARY:Snow Camp (4th-5th Grade)
DESCRIPTION:Information: https://edinborocamp.org/snow-camp/
URL:https://edinborocamp.org/event/snow-camp-4th-5th-grade/
LOCATION:Edinboro Camp & Retreat Center\, 12940 Fry Rd\, Edinboro\, PA\, 16412\, United States
END:VEVENT
BEGIN:VEVENT
DTSTART;TZID=America/New_York:20240119T183000
DTEND;TZID=America/New_York:20240121T133000
DTSTAMP:20260423T195836
CREATED:20231010T231551Z
LAST-MODIFIED:20231010T231651Z
UID:7107-1705689000-1705843800@edinborocamp.org
SUMMARY:Snow Camp (6th-8th Grade)
DESCRIPTION:Information: https://edinborocamp.org/snow-camp/
URL:https://edinborocamp.org/event/snow-camp-6th-8th-grade/
LOCATION:Edinboro Camp & Retreat Center\, 12940 Fry Rd\, Edinboro\, PA\, 16412\, United States
END:VEVENT
BEGIN:VEVENT
DTSTART;TZID=America/New_York:20240105T183000
DTEND;TZID=America/New_York:20240107T133000
DTSTAMP:20260423T195836
CREATED:20231010T231551Z
LAST-MODIFIED:20231010T231551Z
UID:7105-1704479400-1704634200@edinborocamp.org
SUMMARY:Snow Camp (9th-12th Grade)
DESCRIPTION:Information: https://edinborocamp.org/snow-camp/
URL:https://edinborocamp.org/event/snow-camp-9th-12th-grade/
LOCATION:Edinboro Camp & Retreat Center\, 12940 Fry Rd\, Edinboro\, PA\, 16412\, United States
END:VEVENT
END:VCALENDAR