BEGIN:VCALENDAR
VERSION:2.0
PRODID:-//Edinboro Camp and Retreat Center :: Youth Camp - Family Camp - Retreats - ECPv6.15.18//NONSGML v1.0//EN
CALSCALE:GREGORIAN
METHOD:PUBLISH
X-WR-CALNAME:Edinboro Camp and Retreat Center :: Youth Camp - Family Camp - Retreats
X-ORIGINAL-URL:https://edinborocamp.org
X-WR-CALDESC:Events for Edinboro Camp and Retreat Center :: Youth Camp - Family Camp - Retreats
REFRESH-INTERVAL;VALUE=DURATION:PT1H
X-Robots-Tag:noindex
X-PUBLISHED-TTL:PT1H
BEGIN:VTIMEZONE
TZID:America/New_York
BEGIN:DAYLIGHT
TZOFFSETFROM:-0500
TZOFFSETTO:-0400
TZNAME:EDT
DTSTART:20170312T070000
END:DAYLIGHT
BEGIN:STANDARD
TZOFFSETFROM:-0400
TZOFFSETTO:-0500
TZNAME:EST
DTSTART:20171105T060000
END:STANDARD
BEGIN:DAYLIGHT
TZOFFSETFROM:-0500
TZOFFSETTO:-0400
TZNAME:EDT
DTSTART:20180311T070000
END:DAYLIGHT
BEGIN:STANDARD
TZOFFSETFROM:-0400
TZOFFSETTO:-0500
TZNAME:EST
DTSTART:20181104T060000
END:STANDARD
BEGIN:DAYLIGHT
TZOFFSETFROM:-0500
TZOFFSETTO:-0400
TZNAME:EDT
DTSTART:20190310T070000
END:DAYLIGHT
BEGIN:STANDARD
TZOFFSETFROM:-0400
TZOFFSETTO:-0500
TZNAME:EST
DTSTART:20191103T060000
END:STANDARD
BEGIN:DAYLIGHT
TZOFFSETFROM:-0500
TZOFFSETTO:-0400
TZNAME:EDT
DTSTART:20200308T070000
END:DAYLIGHT
BEGIN:STANDARD
TZOFFSETFROM:-0400
TZOFFSETTO:-0500
TZNAME:EST
DTSTART:20201101T060000
END:STANDARD
BEGIN:DAYLIGHT
TZOFFSETFROM:-0500
TZOFFSETTO:-0400
TZNAME:EDT
DTSTART:20210314T070000
END:DAYLIGHT
BEGIN:STANDARD
TZOFFSETFROM:-0400
TZOFFSETTO:-0500
TZNAME:EST
DTSTART:20211107T060000
END:STANDARD
END:VTIMEZONE
BEGIN:VEVENT
DTSTART;TZID=America/New_York:20200127T183000
DTEND;TZID=America/New_York:20200127T210000
DTSTAMP:20260425T110537
CREATED:20200213T141233Z
LAST-MODIFIED:20200213T141334Z
UID:3910-1580149800-1580158800@edinborocamp.org
SUMMARY:Executive Board Meeting At Edinboro Camp
DESCRIPTION:
URL:https://edinborocamp.org/event/executive-board-meeting-at-edinboro-camp/
END:VEVENT
BEGIN:VEVENT
DTSTART;TZID=America/New_York:20200125T093000
DTEND;TZID=America/New_York:20200126T133000
DTSTAMP:20260425T110537
CREATED:20200213T141041Z
LAST-MODIFIED:20200213T141041Z
UID:3908-1579944600-1580045400@edinborocamp.org
SUMMARY:Senior High Winter Camp
DESCRIPTION:
URL:https://edinborocamp.org/event/senior-high-winter-camp/
END:VEVENT
BEGIN:VEVENT
DTSTART;TZID=America/New_York:20200121T183000
DTEND;TZID=America/New_York:20200121T213000
DTSTAMP:20260425T110537
CREATED:20200213T140904Z
LAST-MODIFIED:20200213T140904Z
UID:3906-1579631400-1579642200@edinborocamp.org
SUMMARY:Perspective Class at Erie First Alliance Church
DESCRIPTION:
URL:https://edinborocamp.org/event/perspective-class-at-erie-first-alliance-church/
END:VEVENT
BEGIN:VEVENT
DTSTART;TZID=America/New_York:20200120T180000
DTEND;TZID=America/New_York:20200120T200000
DTSTAMP:20260425T110537
CREATED:20200213T140524Z
LAST-MODIFIED:20200213T140626Z
UID:3903-1579543200-1579550400@edinborocamp.org
SUMMARY:Family Camp Committee Meeting at Pleasantview C&MA Church
DESCRIPTION:
URL:https://edinborocamp.org/event/family-camp-committee-meeting-at-pleasantview-ch/
END:VEVENT
BEGIN:VEVENT
DTSTART;TZID=America/New_York:20200120T130000
DTEND;TZID=America/New_York:20200120T140000
DTSTAMP:20260425T110537
CREATED:20200213T140318Z
LAST-MODIFIED:20200213T140318Z
UID:3901-1579525200-1579528800@edinborocamp.org
SUMMARY:Website Meeting with Zac Weikal
DESCRIPTION:
URL:https://edinborocamp.org/event/website-meeting-with-zac-weikal/
END:VEVENT
BEGIN:VEVENT
DTSTART;TZID=America/New_York:20200110T170000
DTEND;TZID=America/New_York:20200112T150000
DTSTAMP:20260425T110537
CREATED:20200213T140025Z
LAST-MODIFIED:20200213T140025Z
UID:3899-1578675600-1578841200@edinborocamp.org
SUMMARY:Girard Alliance Youth Retreat
DESCRIPTION:
URL:https://edinborocamp.org/event/girard-alliance-youth-retreat/
END:VEVENT
BEGIN:VEVENT
DTSTART;TZID=America/New_York:20200108T180000
DTEND;TZID=America/New_York:20200108T210000
DTSTAMP:20260425T110537
CREATED:20200213T135503Z
LAST-MODIFIED:20200213T135503Z
UID:3895-1578506400-1578517200@edinborocamp.org
SUMMARY:MOPS Group meet at Edinboro Camp
DESCRIPTION:
URL:https://edinborocamp.org/event/mops-group-meet-at-edinboro-camp/
END:VEVENT
BEGIN:VEVENT
DTSTART;TZID=America/New_York:20200108T180000
DTEND;TZID=America/New_York:20200108T200000
DTSTAMP:20260425T110537
CREATED:20200213T135159Z
LAST-MODIFIED:20200213T135653Z
UID:3893-1578506400-1578513600@edinborocamp.org
SUMMARY:Pastor Blair Speak at Union City Awana Group
DESCRIPTION:
URL:https://edinborocamp.org/event/pastor-blair-speak-at-union-city-awana-group/
END:VEVENT
BEGIN:VEVENT
DTSTART;TZID=America/New_York:20191005T100000
DTEND;TZID=America/New_York:20191005T150000
DTSTAMP:20260425T110537
CREATED:20190929T014448Z
LAST-MODIFIED:20191004T014549Z
UID:3519-1570269600-1570287600@edinborocamp.org
SUMMARY:Fall Festival
DESCRIPTION:A Family Fun FREE event awaits at Edinboro Camp and Retreat Center! You’re invited to take part in theon October 5 from 10 am to 3 pm. There is something for all ages:  \n1. A CAR SHOW sponsored by Street Machines Unlimited. \n2. A CRAFT SHOW with almost 40 vendors and unique treasures. \n3. SEVERAL GAMES for children and teens along with a huge playground.  \n4. FOOD VENDOR options (Chicken – Paninis – Hot Dogs – Meatball Sandwiches and more). \n5. SILENT AUCTION for Gift Baskets. \n6. CHINESE AUCTION for Vendor/Craft Donations. \n7. BAKE SALE with all kinds of goodies! \nWe hope to see you!  Come to 12940 Fry Road in Edinboro.
URL:https://edinborocamp.org/event/fall-festival-2/
LOCATION:Edinboro Camp & Retreat Center\, 12940 Fry Rd\, Edinboro\, PA\, 16412\, United States
CATEGORIES:public events
END:VEVENT
BEGIN:VEVENT
DTSTART;VALUE=DATE:20190803
DTEND;VALUE=DATE:20190812
DTSTAMP:20260425T110537
CREATED:20181218T010607Z
LAST-MODIFIED:20181218T010607Z
UID:1878-1564790400-1565567999@edinborocamp.org
SUMMARY:Family Camp – Open to the Public
DESCRIPTION:
URL:https://edinborocamp.org/event/family-camp-open-to-the-public/
LOCATION:Edinboro Camp & Retreat Center\, 12940 Fry Rd\, Edinboro\, PA\, 16412\, United States
CATEGORIES:public events
END:VEVENT
BEGIN:VEVENT
DTSTART;VALUE=DATE:20190721
DTEND;VALUE=DATE:20190727
DTSTAMP:20260425T110537
CREATED:20181218T010034Z
LAST-MODIFIED:20181218T010034Z
UID:1875-1563667200-1564185599@edinborocamp.org
SUMMARY:World Changer Camp – Ages 13-18
DESCRIPTION:
URL:https://edinborocamp.org/event/world-changer-camp-ages-13-18/
LOCATION:Edinboro Camp & Retreat Center\, 12940 Fry Rd\, Edinboro\, PA\, 16412\, United States
END:VEVENT
BEGIN:VEVENT
DTSTART;VALUE=DATE:20190721
DTEND;VALUE=DATE:20190727
DTSTAMP:20260425T110537
CREATED:20181218T010002Z
LAST-MODIFIED:20181218T010002Z
UID:1873-1563667200-1564185599@edinborocamp.org
SUMMARY:SumMIT and Missionary Camp – Ages 13-18
DESCRIPTION:
URL:https://edinborocamp.org/event/summit-and-missionary-camp-ages-13-18/
LOCATION:Edinboro Camp & Retreat Center\, 12940 Fry Rd\, Edinboro\, PA\, 16412\, United States
END:VEVENT
BEGIN:VEVENT
DTSTART;VALUE=DATE:20190714
DTEND;VALUE=DATE:20190720
DTSTAMP:20260425T110537
CREATED:20181218T005907Z
LAST-MODIFIED:20181218T005907Z
UID:1871-1563062400-1563580799@edinborocamp.org
SUMMARY:Thrilling Base Camp – Ages 13-18
DESCRIPTION:
URL:https://edinborocamp.org/event/thrilling-base-camp-ages-13-18/
LOCATION:Edinboro Camp & Retreat Center\, 12940 Fry Rd\, Edinboro\, PA\, 16412\, United States
END:VEVENT
BEGIN:VEVENT
DTSTART;VALUE=DATE:20190707
DTEND;VALUE=DATE:20190713
DTSTAMP:20260425T110537
CREATED:20181218T005833Z
LAST-MODIFIED:20181218T005833Z
UID:1869-1562457600-1562975999@edinborocamp.org
SUMMARY:Adventurer Camp – Ages 12-14
DESCRIPTION:
URL:https://edinborocamp.org/event/adventurer-camp-ages-12-14/
LOCATION:Edinboro Camp & Retreat Center\, 12940 Fry Rd\, Edinboro\, PA\, 16412\, United States
END:VEVENT
BEGIN:VEVENT
DTSTART;VALUE=DATE:20190630
DTEND;VALUE=DATE:20190706
DTSTAMP:20260425T110537
CREATED:20181218T005739Z
LAST-MODIFIED:20181218T005739Z
UID:1867-1561852800-1562371199@edinborocamp.org
SUMMARY:Pathfinder Camp – Ages 10-11
DESCRIPTION:
URL:https://edinborocamp.org/event/pathfinder-camp-ages-10-11/
LOCATION:Edinboro Camp & Retreat Center\, 12940 Fry Rd\, Edinboro\, PA\, 16412\, United States
END:VEVENT
BEGIN:VEVENT
DTSTART;VALUE=DATE:20190624
DTEND;VALUE=DATE:20190629
DTSTAMP:20260425T110537
CREATED:20181218T005706Z
LAST-MODIFIED:20181218T010248Z
UID:1865-1561334400-1561766399@edinborocamp.org
SUMMARY:Day Camp – Ages 6-10
DESCRIPTION:
URL:https://edinborocamp.org/event/day-camp-ages-6-10/
LOCATION:Edinboro Camp & Retreat Center\, 12940 Fry Rd\, Edinboro\, PA\, 16412\, United States
END:VEVENT
BEGIN:VEVENT
DTSTART;VALUE=DATE:20190623
DTEND;VALUE=DATE:20190629
DTSTAMP:20260425T110537
CREATED:20181218T005628Z
LAST-MODIFIED:20181218T010314Z
UID:1863-1561248000-1561766399@edinborocamp.org
SUMMARY:Trailblazer Camp – Ages 8-9
DESCRIPTION:
URL:https://edinborocamp.org/event/trailblazer-camp-ages-8-9/
LOCATION:Edinboro Camp & Retreat Center\, 12940 Fry Rd\, Edinboro\, PA\, 16412\, United States
END:VEVENT
BEGIN:VEVENT
DTSTART;VALUE=DATE:20190616
DTEND;VALUE=DATE:20190622
DTSTAMP:20260425T110537
CREATED:20181218T005522Z
LAST-MODIFIED:20181218T005522Z
UID:1861-1560643200-1561161599@edinborocamp.org
SUMMARY:Teen Camp – Ages 15-18
DESCRIPTION:
URL:https://edinborocamp.org/event/teen-camp-ages-15-18/
LOCATION:Edinboro Camp & Retreat Center\, 12940 Fry Rd\, Edinboro\, PA\, 16412\, United States
CATEGORIES:high school events,middle school events
END:VEVENT
BEGIN:VEVENT
DTSTART;VALUE=DATE:20190614
DTEND;VALUE=DATE:20190616
DTSTAMP:20260425T110537
CREATED:20181218T005407Z
LAST-MODIFIED:20181218T005557Z
UID:1859-1560470400-1560643199@edinborocamp.org
SUMMARY:Explorer Camp – Ages 6-7
DESCRIPTION:
URL:https://edinborocamp.org/event/explorer-camp-ages-6-7/
LOCATION:Edinboro Camp & Retreat Center\, 12940 Fry Rd\, Edinboro\, PA\, 16412\, United States
CATEGORIES:elementary school events
END:VEVENT
BEGIN:VEVENT
DTSTART;VALUE=DATE:20190323
DTEND;VALUE=DATE:20190324
DTSTAMP:20260425T110537
CREATED:20181218T005249Z
LAST-MODIFIED:20190228T152959Z
UID:1855-1553299200-1553385599@edinborocamp.org
SUMMARY:Chili and Soup Cook Off
DESCRIPTION:
URL:https://edinborocamp.org/event/chili-and-soup-cook-off-2/
LOCATION:Edinboro Camp & Retreat Center\, 12940 Fry Rd\, Edinboro\, PA\, 16412\, United States
CATEGORIES:public events
END:VEVENT
BEGIN:VEVENT
DTSTART;TZID=America/New_York:20190302T090000
DTEND;TZID=America/New_York:20190302T210000
DTSTAMP:20260425T110537
CREATED:20190204T194452Z
LAST-MODIFIED:20190204T194452Z
UID:2002-1551517200-1551560400@edinborocamp.org
SUMMARY:Wedding and Reception for Cassandra and Timothy
DESCRIPTION:They will come early to set up and will finish around 9 pm. \nSue and Brenda will be PREPARING the food starting Friday and SERVING Saturday.
URL:https://edinborocamp.org/event/wedding-and-reception-for-cassandra-and-timothy/
END:VEVENT
BEGIN:VEVENT
DTSTART;TZID=America/New_York:20190301T170000
DTEND;TZID=America/New_York:20190301T210000
DTSTAMP:20260425T110537
CREATED:20190204T193938Z
LAST-MODIFIED:20190204T193938Z
UID:1899-1551459600-1551474000@edinborocamp.org
SUMMARY:Wedding Rehearsal
DESCRIPTION:Wedding Rehearsal – Cassandra and Timothy
URL:https://edinborocamp.org/event/wedding-rehearsal/
LOCATION:Edinboro Camp & Retreat Center\, 12940 Fry Rd\, Edinboro\, PA\, 16412\, United States
END:VEVENT
BEGIN:VEVENT
DTSTART;VALUE=DATE:20190222
DTEND;VALUE=DATE:20190224
DTSTAMP:20260425T110537
CREATED:20181218T005215Z
LAST-MODIFIED:20181218T005215Z
UID:1853-1550793600-1550966399@edinborocamp.org
SUMMARY:Ladies Retreat
DESCRIPTION:
URL:https://edinborocamp.org/event/ladies-retreat/
LOCATION:Edinboro Camp & Retreat Center\, 12940 Fry Rd\, Edinboro\, PA\, 16412\, United States
CATEGORIES:retreats
END:VEVENT
BEGIN:VEVENT
DTSTART;VALUE=DATE:20190216
DTEND;VALUE=DATE:20190218
DTSTAMP:20260425T110537
CREATED:20181218T005024Z
LAST-MODIFIED:20181218T005142Z
UID:1849-1550275200-1550447999@edinborocamp.org
SUMMARY:Elementary Snow Camp Grades 1-4
DESCRIPTION:
URL:https://edinborocamp.org/event/elementary-snow-camp-grades-1-4/
LOCATION:Edinboro Camp & Retreat Center\, 12940 Fry Rd\, Edinboro\, PA\, 16412\, United States
CATEGORIES:elementary school events
END:VEVENT
BEGIN:VEVENT
DTSTART;VALUE=DATE:20190209
DTEND;VALUE=DATE:20190211
DTSTAMP:20260425T110537
CREATED:20181218T004942Z
LAST-MODIFIED:20181218T004942Z
UID:1847-1549670400-1549843199@edinborocamp.org
SUMMARY:Junior High Snow Camp Grades 5-8
DESCRIPTION:
URL:https://edinborocamp.org/event/junior-high-snow-camp-grades-5-8/
LOCATION:Edinboro Camp & Retreat Center\, 12940 Fry Rd\, Edinboro\, PA\, 16412\, United States
CATEGORIES:middle school events
END:VEVENT
BEGIN:VEVENT
DTSTART;VALUE=DATE:20190126
DTEND;VALUE=DATE:20190128
DTSTAMP:20260425T110537
CREATED:20181218T004809Z
LAST-MODIFIED:20181218T004820Z
UID:1844-1548460800-1548633599@edinborocamp.org
SUMMARY:Senior High Snow Camp Grades 9-12
DESCRIPTION:
URL:https://edinborocamp.org/event/senior-high-snow-camp/
LOCATION:Edinboro Camp & Retreat Center\, 12940 Fry Rd\, Edinboro\, PA\, 16412\, United States
CATEGORIES:high school events
END:VEVENT
BEGIN:VEVENT
DTSTART;VALUE=DATE:20190118
DTEND;VALUE=DATE:20190121
DTSTAMP:20260425T110537
CREATED:20181218T004643Z
LAST-MODIFIED:20181218T004643Z
UID:1842-1547769600-1548028799@edinborocamp.org
SUMMARY:Girard Alliance Church Youth Retreat
DESCRIPTION:
URL:https://edinborocamp.org/event/girard-alliance-church-youth-retreat/
LOCATION:Edinboro Camp & Retreat Center\, 12940 Fry Rd\, Edinboro\, PA\, 16412\, United States
CATEGORIES:retreats
END:VEVENT
BEGIN:VEVENT
DTSTART;VALUE=DATE:20181019
DTEND;VALUE=DATE:20181021
DTSTAMP:20260425T110537
CREATED:20180907T235031Z
LAST-MODIFIED:20180907T235031Z
UID:1774-1539907200-1540079999@edinborocamp.org
SUMMARY:Flightpath Alliance Church Women’s Retreat
DESCRIPTION:
URL:https://edinborocamp.org/event/flightpath-alliance-church-womens-retreat/
LOCATION:Edinboro Camp & Retreat Center\, 12940 Fry Rd\, Edinboro\, PA\, 16412\, United States
END:VEVENT
BEGIN:VEVENT
DTSTART;TZID=America/New_York:20181006T110000
DTEND;TZID=America/New_York:20181006T150000
DTSTAMP:20260425T110537
CREATED:20180907T235004Z
LAST-MODIFIED:20180907T235004Z
UID:1771-1538823600-1538838000@edinborocamp.org
SUMMARY:Fall Festival
DESCRIPTION:
URL:https://edinborocamp.org/event/fall-festival/
LOCATION:Edinboro Camp & Retreat Center\, 12940 Fry Rd\, Edinboro\, PA\, 16412\, United States
END:VEVENT
BEGIN:VEVENT
DTSTART;VALUE=DATE:20180922
DTEND;VALUE=DATE:20180923
DTSTAMP:20260425T110537
CREATED:20180907T234841Z
LAST-MODIFIED:20180907T234841Z
UID:1769-1537574400-1537660799@edinborocamp.org
SUMMARY:Appreciation Dinner
DESCRIPTION:
URL:https://edinborocamp.org/event/appreciation-dinner/
LOCATION:Edinboro Camp & Retreat Center\, 12940 Fry Rd\, Edinboro\, PA\, 16412\, United States
END:VEVENT
END:VCALENDAR