BEGIN:VCALENDAR
VERSION:2.0
PRODID:-//Edinboro Camp and Retreat Center :: Youth Camp - Family Camp - Retreats - ECPv6.15.18//NONSGML v1.0//EN
CALSCALE:GREGORIAN
METHOD:PUBLISH
X-WR-CALNAME:Edinboro Camp and Retreat Center :: Youth Camp - Family Camp - Retreats
X-ORIGINAL-URL:https://edinborocamp.org
X-WR-CALDESC:Events for Edinboro Camp and Retreat Center :: Youth Camp - Family Camp - Retreats
REFRESH-INTERVAL;VALUE=DURATION:PT1H
X-Robots-Tag:noindex
X-PUBLISHED-TTL:PT1H
BEGIN:VTIMEZONE
TZID:America/New_York
BEGIN:DAYLIGHT
TZOFFSETFROM:-0500
TZOFFSETTO:-0400
TZNAME:EDT
DTSTART:20180311T070000
END:DAYLIGHT
BEGIN:STANDARD
TZOFFSETFROM:-0400
TZOFFSETTO:-0500
TZNAME:EST
DTSTART:20181104T060000
END:STANDARD
BEGIN:DAYLIGHT
TZOFFSETFROM:-0500
TZOFFSETTO:-0400
TZNAME:EDT
DTSTART:20190310T070000
END:DAYLIGHT
BEGIN:STANDARD
TZOFFSETFROM:-0400
TZOFFSETTO:-0500
TZNAME:EST
DTSTART:20191103T060000
END:STANDARD
BEGIN:DAYLIGHT
TZOFFSETFROM:-0500
TZOFFSETTO:-0400
TZNAME:EDT
DTSTART:20200308T070000
END:DAYLIGHT
BEGIN:STANDARD
TZOFFSETFROM:-0400
TZOFFSETTO:-0500
TZNAME:EST
DTSTART:20201101T060000
END:STANDARD
BEGIN:DAYLIGHT
TZOFFSETFROM:-0500
TZOFFSETTO:-0400
TZNAME:EDT
DTSTART:20210314T070000
END:DAYLIGHT
BEGIN:STANDARD
TZOFFSETFROM:-0400
TZOFFSETTO:-0500
TZNAME:EST
DTSTART:20211107T060000
END:STANDARD
END:VTIMEZONE
BEGIN:VEVENT
DTSTART;TZID=America/New_York:20200323T183000
DTEND;TZID=America/New_York:20200323T210000
DTSTAMP:20260425T063328
CREATED:20200213T152948Z
LAST-MODIFIED:20200213T152948Z
UID:3952-1584988200-1584997200@edinborocamp.org
SUMMARY:Executive Board Meeting at Edinboro Camp
DESCRIPTION:
URL:https://edinborocamp.org/event/executive-board-meeting-at-edinboro-camp-3/
END:VEVENT
BEGIN:VEVENT
DTSTART;TZID=America/New_York:20200323T083000
DTEND;TZID=America/New_York:20200323T093000
DTSTAMP:20260425T063328
CREATED:20200213T152815Z
LAST-MODIFIED:20200213T152815Z
UID:3950-1584952200-1584955800@edinborocamp.org
SUMMARY:Promote Camp: Speak at Meadville Calvary Baptist School
DESCRIPTION:
URL:https://edinborocamp.org/event/promote-camp-speak-at-meadville-calvary-baptist-school/
END:VEVENT
BEGIN:VEVENT
DTSTART;TZID=America/New_York:20200322T120000
DTEND;TZID=America/New_York:20200322T133000
DTSTAMP:20260425T063328
CREATED:20200213T152145Z
LAST-MODIFIED:20200317T164957Z
UID:3948-1584878400-1584883800@edinborocamp.org
SUMMARY:Minister at Sterrettania C&MA Church Youth Group
DESCRIPTION:If in Grades 6-12\, come and enjoy a time of Food\, Fellowship\, Fun Activity and a Time of Inspiration!
URL:https://edinborocamp.org/event/minister-at-sterrettania-cma-church-youth-group/
END:VEVENT
BEGIN:VEVENT
DTSTART;TZID=America/New_York:20200314T120000
DTEND;TZID=America/New_York:20200314T140000
DTSTAMP:20260425T063328
CREATED:20200213T151540Z
LAST-MODIFIED:20200213T151540Z
UID:3943-1584187200-1584194400@edinborocamp.org
SUMMARY:Chili\, Soup\, and Dessert Cook-Off
DESCRIPTION:Address: Edinboro Camp & Retreat Center – 12940 Fry Road – Edinboro\, Pa  16412 inside the Family Center. \nEveryone WELCOME to come and enjoy good food and good fellowship. \nYou can even enter one of your Favorite Chili\, Soups or Desserts! \n[gview file=”https://edinborocamp.org/wp-content/uploads/2020/02/2020-March-14-Flyer-with-Desserts.pdf”]
URL:https://edinborocamp.org/event/chili-soup-and-dessert-cook-off/
END:VEVENT
BEGIN:VEVENT
DTSTART;TZID=America/New_York:20200311T070000
DTEND;TZID=America/New_York:20200311T213000
DTSTAMP:20260425T063328
CREATED:20200213T145552Z
LAST-MODIFIED:20200213T145552Z
UID:3941-1583910000-1583962200@edinborocamp.org
SUMMARY:MOPS Group Meet at Edinboro Camp
DESCRIPTION:
URL:https://edinborocamp.org/event/mops-group-meet-at-edinboro-camp-2/
END:VEVENT
BEGIN:VEVENT
DTSTART;TZID=America/New_York:20200308T120000
DTEND;TZID=America/New_York:20200308T133000
DTSTAMP:20260425T063328
CREATED:20200213T145228Z
LAST-MODIFIED:20200213T145228Z
UID:3939-1583668800-1583674200@edinborocamp.org
SUMMARY:Minister at Sterrettania C&MA Youth Group
DESCRIPTION:
URL:https://edinborocamp.org/event/minister-at-sterrettania-cma-youth-group-2/
END:VEVENT
BEGIN:VEVENT
DTSTART;TZID=America/New_York:20200228T180000
DTEND;TZID=America/New_York:20200229T100000
DTSTAMP:20260425T063328
CREATED:20200213T160130Z
LAST-MODIFIED:20200213T160130Z
UID:3955-1582912800-1582970400@edinborocamp.org
SUMMARY:FUSE Youth Group Overnighter
DESCRIPTION:
URL:https://edinborocamp.org/event/fuse-youth-group-overnighter/
END:VEVENT
BEGIN:VEVENT
DTSTART;TZID=America/New_York:20200226T080000
DTEND;TZID=America/New_York:20200226T200000
DTSTAMP:20260425T063328
CREATED:20200213T144559Z
LAST-MODIFIED:20200213T144559Z
UID:3935-1582704000-1582747200@edinborocamp.org
SUMMARY:Promote Camp: N.E. C&MA Church.  Morning Children's Group and Evening Youth Group
DESCRIPTION:
URL:https://edinborocamp.org/event/promote-camp-n-e-cma-church-morning-childrens-group-and-evening-youth-group/
END:VEVENT
BEGIN:VEVENT
DTSTART;TZID=America/New_York:20200224T183000
DTEND;TZID=America/New_York:20200224T210000
DTSTAMP:20260425T063328
CREATED:20200213T144327Z
LAST-MODIFIED:20200213T144327Z
UID:3933-1582569000-1582578000@edinborocamp.org
SUMMARY:Executive Board Meeting at Edinboro Camp
DESCRIPTION:
URL:https://edinborocamp.org/event/executive-board-meeting-at-edinboro-camp-2/
END:VEVENT
BEGIN:VEVENT
DTSTART;TZID=America/New_York:20200223T120000
DTEND;TZID=America/New_York:20200223T133000
DTSTAMP:20260425T063328
CREATED:20200213T145102Z
LAST-MODIFIED:20200213T145102Z
UID:3937-1582459200-1582464600@edinborocamp.org
SUMMARY:Minister at Sterrettania C&MA Youth Group
DESCRIPTION:
URL:https://edinborocamp.org/event/minister-at-sterrettania-cma-youth-group/
END:VEVENT
BEGIN:VEVENT
DTSTART;TZID=America/New_York:20200223T103000
DTEND;TZID=America/New_York:20200223T114500
DTSTAMP:20260425T063328
CREATED:20200213T143726Z
LAST-MODIFIED:20200213T143726Z
UID:3930-1582453800-1582458300@edinborocamp.org
SUMMARY:Promote Camp: at Girard Alliance Church
DESCRIPTION:
URL:https://edinborocamp.org/event/promote-camp-at-girard-alliance-church/
END:VEVENT
BEGIN:VEVENT
DTSTART;TZID=America/New_York:20200220T180000
DTEND;TZID=America/New_York:20200220T210000
DTSTAMP:20260425T063328
CREATED:20200213T143429Z
LAST-MODIFIED:20200213T143429Z
UID:3928-1582221600-1582232400@edinborocamp.org
SUMMARY:Hope Community Church Game Dinner at Edinboro Camp
DESCRIPTION:
URL:https://edinborocamp.org/event/hope-community-church-game-dinner-at-edinboro-camp/
END:VEVENT
BEGIN:VEVENT
DTSTART;TZID=America/New_York:20200219T110000
DTEND;TZID=America/New_York:20200219T120000
DTSTAMP:20260425T063328
CREATED:20200213T143006Z
LAST-MODIFIED:20200213T143006Z
UID:3926-1582110000-1582113600@edinborocamp.org
SUMMARY:Bunk 1 Photography Meeting
DESCRIPTION:
URL:https://edinborocamp.org/event/bunk-1-photography-meeting/
END:VEVENT
BEGIN:VEVENT
DTSTART;TZID=America/New_York:20200217T183000
DTEND;TZID=America/New_York:20200217T203000
DTSTAMP:20260425T063328
CREATED:20200213T142856Z
LAST-MODIFIED:20200213T142856Z
UID:3924-1581964200-1581971400@edinborocamp.org
SUMMARY:Family Camp Committee Meeting
DESCRIPTION:
URL:https://edinborocamp.org/event/family-camp-committee-meeting/
END:VEVENT
BEGIN:VEVENT
DTSTART;TZID=America/New_York:20200215T093000
DTEND;TZID=America/New_York:20200216T133000
DTSTAMP:20260425T063328
CREATED:20200213T142716Z
LAST-MODIFIED:20200213T142716Z
UID:3922-1581759000-1581859800@edinborocamp.org
SUMMARY:Elementary Winter Camp
DESCRIPTION:
URL:https://edinborocamp.org/event/elementary-winter-camp/
END:VEVENT
BEGIN:VEVENT
DTSTART;TZID=America/New_York:20200212T180000
DTEND;TZID=America/New_York:20200212T213000
DTSTAMP:20260425T063328
CREATED:20200213T142617Z
LAST-MODIFIED:20200213T142617Z
UID:3920-1581530400-1581543000@edinborocamp.org
SUMMARY:MOPS Group Meeting at Edinboro Camp
DESCRIPTION:
URL:https://edinborocamp.org/event/mops-group-meeting-at-edinboro-camp/
END:VEVENT
BEGIN:VEVENT
DTSTART;TZID=America/New_York:20200208T093000
DTEND;TZID=America/New_York:20200209T133000
DTSTAMP:20260425T063328
CREATED:20200213T142316Z
LAST-MODIFIED:20200213T142316Z
UID:3918-1581154200-1581255000@edinborocamp.org
SUMMARY:Junior High Winter Camp
DESCRIPTION:
URL:https://edinborocamp.org/event/junior-high-winter-camp/
END:VEVENT
BEGIN:VEVENT
DTSTART;TZID=America/New_York:20200203T130000
DTEND;TZID=America/New_York:20200203T150000
DTSTAMP:20260425T063328
CREATED:20200213T142130Z
LAST-MODIFIED:20200213T142130Z
UID:3916-1580734800-1580742000@edinborocamp.org
SUMMARY:Ninja Warrior Meeting at Erie Fitness Club
DESCRIPTION:
URL:https://edinborocamp.org/event/ninja-warrior-meeting-at-erie-fitness-club/
END:VEVENT
BEGIN:VEVENT
DTSTART;TZID=America/New_York:20200131T160000
DTEND;TZID=America/New_York:20200201T160000
DTSTAMP:20260425T063328
CREATED:20200213T141831Z
LAST-MODIFIED:20200213T141953Z
UID:3914-1580486400-1580572800@edinborocamp.org
SUMMARY:Pleasantview C&MA Women's Retreat
DESCRIPTION:
URL:https://edinborocamp.org/event/pleasantview-cma-womens-retreat/
END:VEVENT
BEGIN:VEVENT
DTSTART;TZID=America/New_York:20200130T113000
DTEND;TZID=America/New_York:20200130T140000
DTSTAMP:20260425T063328
CREATED:20200213T141545Z
LAST-MODIFIED:20200213T141545Z
UID:3912-1580383800-1580392800@edinborocamp.org
SUMMARY:Dinner Meeting in Union City
DESCRIPTION:
URL:https://edinborocamp.org/event/dinner-meeting-in-union-city/
END:VEVENT
BEGIN:VEVENT
DTSTART;TZID=America/New_York:20200127T183000
DTEND;TZID=America/New_York:20200127T210000
DTSTAMP:20260425T063328
CREATED:20200213T141233Z
LAST-MODIFIED:20200213T141334Z
UID:3910-1580149800-1580158800@edinborocamp.org
SUMMARY:Executive Board Meeting At Edinboro Camp
DESCRIPTION:
URL:https://edinborocamp.org/event/executive-board-meeting-at-edinboro-camp/
END:VEVENT
BEGIN:VEVENT
DTSTART;TZID=America/New_York:20200125T093000
DTEND;TZID=America/New_York:20200126T133000
DTSTAMP:20260425T063328
CREATED:20200213T141041Z
LAST-MODIFIED:20200213T141041Z
UID:3908-1579944600-1580045400@edinborocamp.org
SUMMARY:Senior High Winter Camp
DESCRIPTION:
URL:https://edinborocamp.org/event/senior-high-winter-camp/
END:VEVENT
BEGIN:VEVENT
DTSTART;TZID=America/New_York:20200121T183000
DTEND;TZID=America/New_York:20200121T213000
DTSTAMP:20260425T063328
CREATED:20200213T140904Z
LAST-MODIFIED:20200213T140904Z
UID:3906-1579631400-1579642200@edinborocamp.org
SUMMARY:Perspective Class at Erie First Alliance Church
DESCRIPTION:
URL:https://edinborocamp.org/event/perspective-class-at-erie-first-alliance-church/
END:VEVENT
BEGIN:VEVENT
DTSTART;TZID=America/New_York:20200120T180000
DTEND;TZID=America/New_York:20200120T200000
DTSTAMP:20260425T063328
CREATED:20200213T140524Z
LAST-MODIFIED:20200213T140626Z
UID:3903-1579543200-1579550400@edinborocamp.org
SUMMARY:Family Camp Committee Meeting at Pleasantview C&MA Church
DESCRIPTION:
URL:https://edinborocamp.org/event/family-camp-committee-meeting-at-pleasantview-ch/
END:VEVENT
BEGIN:VEVENT
DTSTART;TZID=America/New_York:20200120T130000
DTEND;TZID=America/New_York:20200120T140000
DTSTAMP:20260425T063328
CREATED:20200213T140318Z
LAST-MODIFIED:20200213T140318Z
UID:3901-1579525200-1579528800@edinborocamp.org
SUMMARY:Website Meeting with Zac Weikal
DESCRIPTION:
URL:https://edinborocamp.org/event/website-meeting-with-zac-weikal/
END:VEVENT
BEGIN:VEVENT
DTSTART;TZID=America/New_York:20200110T170000
DTEND;TZID=America/New_York:20200112T150000
DTSTAMP:20260425T063328
CREATED:20200213T140025Z
LAST-MODIFIED:20200213T140025Z
UID:3899-1578675600-1578841200@edinborocamp.org
SUMMARY:Girard Alliance Youth Retreat
DESCRIPTION:
URL:https://edinborocamp.org/event/girard-alliance-youth-retreat/
END:VEVENT
BEGIN:VEVENT
DTSTART;TZID=America/New_York:20200108T180000
DTEND;TZID=America/New_York:20200108T210000
DTSTAMP:20260425T063328
CREATED:20200213T135503Z
LAST-MODIFIED:20200213T135503Z
UID:3895-1578506400-1578517200@edinborocamp.org
SUMMARY:MOPS Group meet at Edinboro Camp
DESCRIPTION:
URL:https://edinborocamp.org/event/mops-group-meet-at-edinboro-camp/
END:VEVENT
BEGIN:VEVENT
DTSTART;TZID=America/New_York:20200108T180000
DTEND;TZID=America/New_York:20200108T200000
DTSTAMP:20260425T063328
CREATED:20200213T135159Z
LAST-MODIFIED:20200213T135653Z
UID:3893-1578506400-1578513600@edinborocamp.org
SUMMARY:Pastor Blair Speak at Union City Awana Group
DESCRIPTION:
URL:https://edinborocamp.org/event/pastor-blair-speak-at-union-city-awana-group/
END:VEVENT
BEGIN:VEVENT
DTSTART;TZID=America/New_York:20191005T100000
DTEND;TZID=America/New_York:20191005T150000
DTSTAMP:20260425T063328
CREATED:20190929T014448Z
LAST-MODIFIED:20191004T014549Z
UID:3519-1570269600-1570287600@edinborocamp.org
SUMMARY:Fall Festival
DESCRIPTION:A Family Fun FREE event awaits at Edinboro Camp and Retreat Center! You’re invited to take part in theon October 5 from 10 am to 3 pm. There is something for all ages:  \n1. A CAR SHOW sponsored by Street Machines Unlimited. \n2. A CRAFT SHOW with almost 40 vendors and unique treasures. \n3. SEVERAL GAMES for children and teens along with a huge playground.  \n4. FOOD VENDOR options (Chicken – Paninis – Hot Dogs – Meatball Sandwiches and more). \n5. SILENT AUCTION for Gift Baskets. \n6. CHINESE AUCTION for Vendor/Craft Donations. \n7. BAKE SALE with all kinds of goodies! \nWe hope to see you!  Come to 12940 Fry Road in Edinboro.
URL:https://edinborocamp.org/event/fall-festival-2/
LOCATION:Edinboro Camp & Retreat Center\, 12940 Fry Rd\, Edinboro\, PA\, 16412\, United States
CATEGORIES:public events
END:VEVENT
BEGIN:VEVENT
DTSTART;VALUE=DATE:20190803
DTEND;VALUE=DATE:20190812
DTSTAMP:20260425T063328
CREATED:20181218T010607Z
LAST-MODIFIED:20181218T010607Z
UID:1878-1564790400-1565567999@edinborocamp.org
SUMMARY:Family Camp – Open to the Public
DESCRIPTION:
URL:https://edinborocamp.org/event/family-camp-open-to-the-public/
LOCATION:Edinboro Camp & Retreat Center\, 12940 Fry Rd\, Edinboro\, PA\, 16412\, United States
CATEGORIES:public events
END:VEVENT
END:VCALENDAR