BEGIN:VCALENDAR
VERSION:2.0
PRODID:-//Edinboro Camp and Retreat Center :: Youth Camp - Family Camp - Retreats - ECPv6.15.18//NONSGML v1.0//EN
CALSCALE:GREGORIAN
METHOD:PUBLISH
X-WR-CALNAME:Edinboro Camp and Retreat Center :: Youth Camp - Family Camp - Retreats
X-ORIGINAL-URL:https://edinborocamp.org
X-WR-CALDESC:Events for Edinboro Camp and Retreat Center :: Youth Camp - Family Camp - Retreats
REFRESH-INTERVAL;VALUE=DURATION:PT1H
X-Robots-Tag:noindex
X-PUBLISHED-TTL:PT1H
BEGIN:VTIMEZONE
TZID:America/New_York
BEGIN:DAYLIGHT
TZOFFSETFROM:-0500
TZOFFSETTO:-0400
TZNAME:EDT
DTSTART:20170312T070000
END:DAYLIGHT
BEGIN:STANDARD
TZOFFSETFROM:-0400
TZOFFSETTO:-0500
TZNAME:EST
DTSTART:20171105T060000
END:STANDARD
BEGIN:DAYLIGHT
TZOFFSETFROM:-0500
TZOFFSETTO:-0400
TZNAME:EDT
DTSTART:20180311T070000
END:DAYLIGHT
BEGIN:STANDARD
TZOFFSETFROM:-0400
TZOFFSETTO:-0500
TZNAME:EST
DTSTART:20181104T060000
END:STANDARD
BEGIN:DAYLIGHT
TZOFFSETFROM:-0500
TZOFFSETTO:-0400
TZNAME:EDT
DTSTART:20190310T070000
END:DAYLIGHT
BEGIN:STANDARD
TZOFFSETFROM:-0400
TZOFFSETTO:-0500
TZNAME:EST
DTSTART:20191103T060000
END:STANDARD
BEGIN:DAYLIGHT
TZOFFSETFROM:-0500
TZOFFSETTO:-0400
TZNAME:EDT
DTSTART:20200308T070000
END:DAYLIGHT
BEGIN:STANDARD
TZOFFSETFROM:-0400
TZOFFSETTO:-0500
TZNAME:EST
DTSTART:20201101T060000
END:STANDARD
END:VTIMEZONE
BEGIN:VEVENT
DTSTART;VALUE=DATE:20190614
DTEND;VALUE=DATE:20190616
DTSTAMP:20260425T073829
CREATED:20181218T005407Z
LAST-MODIFIED:20181218T005557Z
UID:1859-1560470400-1560643199@edinborocamp.org
SUMMARY:Explorer Camp – Ages 6-7
DESCRIPTION:
URL:https://edinborocamp.org/event/explorer-camp-ages-6-7/
LOCATION:Edinboro Camp & Retreat Center\, 12940 Fry Rd\, Edinboro\, PA\, 16412\, United States
CATEGORIES:elementary school events
END:VEVENT
BEGIN:VEVENT
DTSTART;VALUE=DATE:20190216
DTEND;VALUE=DATE:20190218
DTSTAMP:20260425T073829
CREATED:20181218T005024Z
LAST-MODIFIED:20181218T005142Z
UID:1849-1550275200-1550447999@edinborocamp.org
SUMMARY:Elementary Snow Camp Grades 1-4
DESCRIPTION:
URL:https://edinborocamp.org/event/elementary-snow-camp-grades-1-4/
LOCATION:Edinboro Camp & Retreat Center\, 12940 Fry Rd\, Edinboro\, PA\, 16412\, United States
CATEGORIES:elementary school events
END:VEVENT
BEGIN:VEVENT
DTSTART;TZID=America/New_York:20180615T180000
DTEND;TZID=America/New_York:20180617T130000
DTSTAMP:20260425T073829
CREATED:20180207T234059Z
LAST-MODIFIED:20180511T132914Z
UID:1439-1529085600-1529240400@edinborocamp.org
SUMMARY:Explorers Camp Weekend
DESCRIPTION:Campers have a chance to “EXPLORE” what camp is really all about. They have a short weekend rather than being thrown into a whole week. It is a brief but action packed weekend. There will be plenty of fun activities and inspirational services to help one grow in faith. This is a great camp to get kids prepared for longer over-nighters when they get older.
URL:https://edinborocamp.org/event/explorers-camp-weekend/
LOCATION:Edinboro Camp & Retreat Center\, 12940 Fry Rd\, Edinboro\, PA\, 16412\, United States
CATEGORIES:elementary school events
END:VEVENT
BEGIN:VEVENT
DTSTART;TZID=America/New_York:20180210T093000
DTEND;TZID=America/New_York:20180211T133000
DTSTAMP:20260425T073829
CREATED:20171231T200547Z
LAST-MODIFIED:20171231T200547Z
UID:1206-1518255000-1518355800@edinborocamp.org
SUMMARY:Snow Camp for Grades 1-4
DESCRIPTION:Saturday Check-In 9:30 a.m.         Sunday Check-Out 1:30 p.m.         Cost is $59 (includes T-Shirt) \nSee Attached Registration Form \nMail Registration Forms to Robin Anderson – 15446 Harmonsburg Road – Meadville\, Pa 16335
URL:https://edinborocamp.org/event/snow-camp-for-grades-1-4/
LOCATION:Edinboro Camp & Retreat Center\, 12940 Fry Rd\, Edinboro\, PA\, 16412\, United States
CATEGORIES:elementary school events
END:VEVENT
BEGIN:VEVENT
DTSTART;TZID=America/New_York:20180203T093000
DTEND;TZID=America/New_York:20180204T133000
DTSTAMP:20260425T073829
CREATED:20171231T200302Z
LAST-MODIFIED:20171231T200318Z
UID:1204-1517650200-1517751000@edinborocamp.org
SUMMARY:Snow Camp for Grades 5-8
DESCRIPTION:Saturday Check-In 9:30 a.m.         Sunday Check-Out 1:30 p.m.         Cost is $59 (includes T-Shirt) \nSee Attached Registration Form \nMail Registration Forms to Robin Anderson – 15446 Harmonsburg Road – Meadville\, Pa 16335
URL:https://edinborocamp.org/event/snow-camp-for-grades-5-8/
LOCATION:Edinboro Camp & Retreat Center\, 12940 Fry Rd\, Edinboro\, PA\, 16412\, United States
CATEGORIES:elementary school events,middle school events
END:VEVENT
END:VCALENDAR