BEGIN:VCALENDAR
VERSION:2.0
PRODID:-//Edinboro Camp and Retreat Center :: Youth Camp - Family Camp - Retreats - ECPv6.15.18//NONSGML v1.0//EN
CALSCALE:GREGORIAN
METHOD:PUBLISH
X-WR-CALNAME:Edinboro Camp and Retreat Center :: Youth Camp - Family Camp - Retreats
X-ORIGINAL-URL:https://edinborocamp.org
X-WR-CALDESC:Events for Edinboro Camp and Retreat Center :: Youth Camp - Family Camp - Retreats
REFRESH-INTERVAL;VALUE=DURATION:PT1H
X-Robots-Tag:noindex
X-PUBLISHED-TTL:PT1H
BEGIN:VTIMEZONE
TZID:America/New_York
BEGIN:DAYLIGHT
TZOFFSETFROM:-0500
TZOFFSETTO:-0400
TZNAME:EDT
DTSTART:20250309T070000
END:DAYLIGHT
BEGIN:STANDARD
TZOFFSETFROM:-0400
TZOFFSETTO:-0500
TZNAME:EST
DTSTART:20251102T060000
END:STANDARD
BEGIN:DAYLIGHT
TZOFFSETFROM:-0500
TZOFFSETTO:-0400
TZNAME:EDT
DTSTART:20260308T070000
END:DAYLIGHT
BEGIN:STANDARD
TZOFFSETFROM:-0400
TZOFFSETTO:-0500
TZNAME:EST
DTSTART:20261101T060000
END:STANDARD
BEGIN:DAYLIGHT
TZOFFSETFROM:-0500
TZOFFSETTO:-0400
TZNAME:EDT
DTSTART:20270314T070000
END:DAYLIGHT
BEGIN:STANDARD
TZOFFSETFROM:-0400
TZOFFSETTO:-0500
TZNAME:EST
DTSTART:20271107T060000
END:STANDARD
END:VTIMEZONE
BEGIN:VEVENT
DTSTART;VALUE=DATE:20260705
DTEND;VALUE=DATE:20260711
DTSTAMP:20260423T135013
CREATED:20260125T222115Z
LAST-MODIFIED:20260125T222115Z
UID:7942-1783209600-1783727999@edinborocamp.org
SUMMARY:Trailblazer Camp (ages 8-9)
DESCRIPTION:
URL:https://edinborocamp.org/event/trailblazer-camp-ages-8-9-2/
END:VEVENT
END:VCALENDAR